BEGIN:VCALENDAR
VERSION:2.0
PRODID:-//ESSC-D - ECPv6.15.20//NONSGML v1.0//EN
CALSCALE:GREGORIAN
METHOD:PUBLISH
X-WR-CALNAME:ESSC-D
X-ORIGINAL-URL:https://www.sixsigmaclub.de
X-WR-CALDESC:Veranstaltungen für ESSC-D
REFRESH-INTERVAL;VALUE=DURATION:PT1H
X-Robots-Tag:noindex
X-PUBLISHED-TTL:PT1H
BEGIN:VTIMEZONE
TZID:Europe/Berlin
BEGIN:DAYLIGHT
TZOFFSETFROM:+0100
TZOFFSETTO:+0200
TZNAME:CEST
DTSTART:20210328T010000
END:DAYLIGHT
BEGIN:STANDARD
TZOFFSETFROM:+0200
TZOFFSETTO:+0100
TZNAME:CET
DTSTART:20211031T010000
END:STANDARD
BEGIN:DAYLIGHT
TZOFFSETFROM:+0100
TZOFFSETTO:+0200
TZNAME:CEST
DTSTART:20220327T010000
END:DAYLIGHT
BEGIN:STANDARD
TZOFFSETFROM:+0200
TZOFFSETTO:+0100
TZNAME:CET
DTSTART:20221030T010000
END:STANDARD
BEGIN:DAYLIGHT
TZOFFSETFROM:+0100
TZOFFSETTO:+0200
TZNAME:CEST
DTSTART:20230326T010000
END:DAYLIGHT
BEGIN:STANDARD
TZOFFSETFROM:+0200
TZOFFSETTO:+0100
TZNAME:CET
DTSTART:20231029T010000
END:STANDARD
END:VTIMEZONE
BEGIN:VEVENT
DTSTART;VALUE=DATE:20220324
DTEND;VALUE=DATE:20220326
DTSTAMP:20260423T013325
CREATED:20211130T085840Z
LAST-MODIFIED:20220207T074937Z
UID:2094-1648080000-1648252799@www.sixsigmaclub.de
SUMMARY:ESSC-D Six Sigma Fachkonferenz 2022 in Berlin
DESCRIPTION:ESSC-D Six Sigma Fachkonferenz 2022 in Berlin \n„Save the date“ – 24. und 25. März 2022 \nNach zweijähriger Pause\, verursacht durch die Corona-Pandemie\, freuen wir uns\, die Six Sigma Fachkonferenz am 24./25. März 2022 in Berlin anzukündigen. In Kürze werden wir an dieser Stelle das Programm mit aktuellen und spannenden Beiträgen und Workshops zum Mitmachen aus der Welt der Prozessverbesserung bekanntgeben. \nLink zur Agenda und Anmeldeformular 2022 \n 
URL:https://www.sixsigmaclub.de/event/essc-d-six-sigma-fachkonferenz-2022-in-berlin/
LOCATION:H+ Hotel\, Casteller Straße 106\, Hofheim‐Diedenbergen\, Hessen\, 65719
CATEGORIES:Fachkonferenz
ATTACH;FMTTYPE=image/jpeg:https://www.sixsigmaclub.de/wp-content/uploads/2021/07/six_sigma_fachkonferenz-scaled.jpg
ORGANIZER;CN="European Six Sigma Club Deutschland e.V.":MAILTO:buero@sixsigmaclub.de
END:VEVENT
END:VCALENDAR