BEGIN:VCALENDAR
VERSION:2.0
PRODID:-//ESSC-D - ECPv6.15.20//NONSGML v1.0//EN
CALSCALE:GREGORIAN
METHOD:PUBLISH
X-WR-CALNAME:ESSC-D
X-ORIGINAL-URL:https://www.sixsigmaclub.de
X-WR-CALDESC:Veranstaltungen für ESSC-D
REFRESH-INTERVAL;VALUE=DURATION:PT1H
X-Robots-Tag:noindex
X-PUBLISHED-TTL:PT1H
BEGIN:VTIMEZONE
TZID:Europe/Berlin
BEGIN:DAYLIGHT
TZOFFSETFROM:+0100
TZOFFSETTO:+0200
TZNAME:CEST
DTSTART:20250330T010000
END:DAYLIGHT
BEGIN:STANDARD
TZOFFSETFROM:+0200
TZOFFSETTO:+0100
TZNAME:CET
DTSTART:20251026T010000
END:STANDARD
BEGIN:DAYLIGHT
TZOFFSETFROM:+0100
TZOFFSETTO:+0200
TZNAME:CEST
DTSTART:20260329T010000
END:DAYLIGHT
BEGIN:STANDARD
TZOFFSETFROM:+0200
TZOFFSETTO:+0100
TZNAME:CET
DTSTART:20261025T010000
END:STANDARD
BEGIN:DAYLIGHT
TZOFFSETFROM:+0100
TZOFFSETTO:+0200
TZNAME:CEST
DTSTART:20270328T010000
END:DAYLIGHT
BEGIN:STANDARD
TZOFFSETFROM:+0200
TZOFFSETTO:+0100
TZNAME:CET
DTSTART:20271031T010000
END:STANDARD
END:VTIMEZONE
BEGIN:VEVENT
DTSTART;VALUE=DATE:20261008
DTEND;VALUE=DATE:20261009
DTSTAMP:20260420T171614
CREATED:20250527T152220Z
LAST-MODIFIED:20251209T003803Z
UID:89060-1791417600-1791503999@www.sixsigmaclub.de
SUMMARY:Modultraining 2: Versuchsplanung & Design of Experiments (DoE)
DESCRIPTION:Die Teilnehmenden entwickeln ein sicheres Verständnis für den Aufbau\, die Durchführung und die Auswertung von Versuchsplänen. Sie können typische Stolperfallen erkennen\, Versuche optimieren und Teams bei der praktischen Umsetzung wirkungsvoll unterstützen. \nKerninhalte dieses Moduls: \n➡ Grundlagen von Voll- und Teilfaktorversuchsplänen – Aufbau\, Analyse und Interpretation (Refresher).\n➡ Verständnis und Umgang mit Alias-Strukturen\, um Wechselwirkungen korrekt zu deuten.\n➡ Versuchsplanung mit Trennschärfeanalyse\, um den Aufwand gezielt zu steuern.\n➡ Center Points gezielt einsetzen\, um Nichtlinearitäten und Reproduzierbarkeit zu prüfen.\n➡ Wirkungsflächen- und Erweiterte DoE-Methoden wie RSM\, D-optimal oder definitive Screening Designs.\n➡ Spezielle DoE-Formen wie Mischungs- und Taguchi-Versuchspläne gezielt auswählen und anwenden.\n➡ Strategien bei fehlgeschlagenen Versuchen und unvollständigen Daten – robuste Planung und flexible Anpassung.\n\nTermine (ONLINE)\n– 08.10.2026. 08:00 Uhr bis 17:00 Uhr\n– 09.10.2026. 08:00 Uhr bis 17:00 Uhr\nHaben Sie Fragen oder möchten Sie teilnehmen? Wir freuen uns über Ihre Nachricht. \nWerden Sie Teil der Data Excellence Experience – wir freuen uns auf Ihre Teilnahme!\nWeitere Module und Informationen: LINK \n_________________________________________________________________________ \n \n  \n  \nWeitere interessante Termine rund um das Qualitätswesen finden Sie im Terminkalender der QZ-online.de\n__________________________________________________________________________
URL:https://www.sixsigmaclub.de/event/workshop-versuchsplanung-design-of-experiments-doe/
LOCATION:Online
CATEGORIES:ESSC-D Workshop / Training,Modultraining
ATTACH;FMTTYPE=image/png:https://www.sixsigmaclub.de/wp-content/uploads/DEEE_Modul3-e1747327788278.png
ORGANIZER;CN="European Six Sigma Club Deutschland e.V.":MAILTO:buero@sixsigmaclub.de
END:VEVENT
END:VCALENDAR