BEGIN:VCALENDAR
VERSION:2.0
PRODID:-//ESSC-D - ECPv6.15.20//NONSGML v1.0//EN
CALSCALE:GREGORIAN
METHOD:PUBLISH
X-ORIGINAL-URL:https://www.sixsigmaclub.de
X-WR-CALDESC:Veranstaltungen für ESSC-D
REFRESH-INTERVAL;VALUE=DURATION:PT1H
X-Robots-Tag:noindex
X-PUBLISHED-TTL:PT1H
BEGIN:VTIMEZONE
TZID:Europe/Berlin
BEGIN:DAYLIGHT
TZOFFSETFROM:+0100
TZOFFSETTO:+0200
TZNAME:CEST
DTSTART:20230326T010000
END:DAYLIGHT
BEGIN:STANDARD
TZOFFSETFROM:+0200
TZOFFSETTO:+0100
TZNAME:CET
DTSTART:20231029T010000
END:STANDARD
BEGIN:DAYLIGHT
TZOFFSETFROM:+0100
TZOFFSETTO:+0200
TZNAME:CEST
DTSTART:20240331T010000
END:DAYLIGHT
BEGIN:STANDARD
TZOFFSETFROM:+0200
TZOFFSETTO:+0100
TZNAME:CET
DTSTART:20241027T010000
END:STANDARD
BEGIN:DAYLIGHT
TZOFFSETFROM:+0100
TZOFFSETTO:+0200
TZNAME:CEST
DTSTART:20250330T010000
END:DAYLIGHT
BEGIN:STANDARD
TZOFFSETFROM:+0200
TZOFFSETTO:+0100
TZNAME:CET
DTSTART:20251026T010000
END:STANDARD
END:VTIMEZONE
BEGIN:VEVENT
DTSTART;TZID=Europe/Berlin:20240307T090000
DTEND;TZID=Europe/Berlin:20240308T150000
DTSTAMP:20260423T045341
CREATED:20230727T151844Z
LAST-MODIFIED:20240123T223532Z
UID:3337-1709802000-1709910000@www.sixsigmaclub.de
SUMMARY:Six Sigma Fachkonferenz 2024
DESCRIPTION:Jetzt anmelden zur ESSC-D Six Sigma Fachkonferenz 2024! \nWir freuen uns\, Ihnen den Termin für die hochkarätige Six Sigma Fachkonferenz 2024 bekanntzugeben!\nMerken Sie sich den 07. und 08. März 2024 vor\, denn an diesen Tagen öffnet die Konferenz ihre Türen in der malerischen Stadt Wiesbaden Niedernhausen. \nDie Six Sigma Fachkonferenz 2024 verspricht ein umfassendes Programm mit inspirierenden Vorträgen\, interaktiven Workshops und Gelegenheiten zum Networking mit Experten aus verschiedenen Branchen. \nWichtige Informationen im Überblick:\nDatum: 07. und 08. März 2024\nGet togehter: 06. März ab 19:30 Uhr\nOrt: H+ Hotel in 65527 Niedernhausen (nähe Wiesbaden) \nWir arbeiten mit Hochdruck daran\, Ihnen weitere Informationen zur Veranstaltung und dem endgültigen Programm präsentieren zu können.\nHaben Sie Fragen zur Fachkonferenz oder möchten Sie einen Vortrag zu einem spezifischen Thema halten? Schreiben Sie uns: buero@sixsigmaclub.de \nWeitere Informationen zur Veranstaltung\, dem aktuellen Programm und der Anmeldung erhalten Sie hier zum Download: LINK  \nPartner der Fachkonferenz 2024:\nADDITIVE GmbH \nMit freundlichen Grüßen und bis bald auf der Six Sigma Fachkonferenz 2024!\nDas Organisationsteam der Six Sigma Fachkonferenz \n  \n_________________________________________________________________________ \n \n  \n  \nWeitere interessante Termine rund um das Qualitätswesen finden Sie im Terminkalender der QZ-online.de\n__________________________________________________________________________
URL:https://www.sixsigmaclub.de/event/fachkonferenz-2024/
LOCATION:H+ Hotel\, Casteller Straße 106\, Hofheim‐Diedenbergen\, Hessen\, 65719
CATEGORIES:Fachkonferenz
ATTACH;FMTTYPE=image/jpeg:https://www.sixsigmaclub.de/wp-content/uploads/FaKo2024.jpg
ORGANIZER;CN="European Six Sigma Club Deutschland e.V.":MAILTO:buero@sixsigmaclub.de
END:VEVENT
END:VCALENDAR