BEGIN:VCALENDAR
VERSION:2.0
PRODID:-//ESSC-D - ECPv6.15.20//NONSGML v1.0//EN
CALSCALE:GREGORIAN
METHOD:PUBLISH
X-WR-CALNAME:ESSC-D
X-ORIGINAL-URL:https://www.sixsigmaclub.de
X-WR-CALDESC:Veranstaltungen für ESSC-D
REFRESH-INTERVAL;VALUE=DURATION:PT1H
X-Robots-Tag:noindex
X-PUBLISHED-TTL:PT1H
BEGIN:VTIMEZONE
TZID:Europe/Berlin
BEGIN:DAYLIGHT
TZOFFSETFROM:+0100
TZOFFSETTO:+0200
TZNAME:CEST
DTSTART:20250330T010000
END:DAYLIGHT
BEGIN:STANDARD
TZOFFSETFROM:+0200
TZOFFSETTO:+0100
TZNAME:CET
DTSTART:20251026T010000
END:STANDARD
BEGIN:DAYLIGHT
TZOFFSETFROM:+0100
TZOFFSETTO:+0200
TZNAME:CEST
DTSTART:20260329T010000
END:DAYLIGHT
BEGIN:STANDARD
TZOFFSETFROM:+0200
TZOFFSETTO:+0100
TZNAME:CET
DTSTART:20261025T010000
END:STANDARD
BEGIN:DAYLIGHT
TZOFFSETFROM:+0100
TZOFFSETTO:+0200
TZNAME:CEST
DTSTART:20270328T010000
END:DAYLIGHT
BEGIN:STANDARD
TZOFFSETFROM:+0200
TZOFFSETTO:+0100
TZNAME:CET
DTSTART:20271031T010000
END:STANDARD
END:VTIMEZONE
BEGIN:VEVENT
DTSTART;TZID=Europe/Berlin:20260123T140000
DTEND;TZID=Europe/Berlin:20260123T153000
DTSTAMP:20260422T164349
CREATED:20260116T121302Z
LAST-MODIFIED:20260116T121302Z
UID:89617-1769176800-1769182200@www.sixsigmaclub.de
SUMMARY:Erste Schritte mit R
DESCRIPTION:Workshop-Special (Online) zum Data-Talk: Erste Schritte in R \n\nSie möchten Daten professionell analysieren und grafisch darstellen?\nEs soll kostenlos sein?\nDafür gibt es mehrere Lösungen. Eine davon ist „R“.\nDas „R-Universum“ bietet eine enorme Vielfalt\, hat jedoch die Einstiegshürde einer Programmiersprache.\n\nIn diesem Workshop wird die Programmierumgebung RStudio gemeinsam in Betrieb genommen und es werden erste einfache Daten-Auswertungen gemeinsam durchgeführt. \nAls Teilnahmevoraussetzung: Bitte R und dann RStudio  z.B. hier (kostenfrei) herunterladen\, installieren https://posit.co/download/rstudio-desktop/  und mit diesem Rechner an der Zoom-Session teilnehmen. \nReferent: Dr. Thomas Rietdorf \n_________________________________________________________________________ \n \n  \n  \nWeitere interessante Termine rund um das Qualitätswesen finden Sie im Terminkalender der QZ-online.de\n__________________________________________________________________________
URL:https://www.sixsigmaclub.de/event/erste-schritte-mit-r/
LOCATION:Online
CATEGORIES:Online-Vortrag
ATTACH;FMTTYPE=image/png:https://www.sixsigmaclub.de/wp-content/uploads/ESSC_R_Online_Session.png
ORGANIZER;CN="European Six Sigma Club Deutschland e.V.":MAILTO:buero@sixsigmaclub.de
END:VEVENT
END:VCALENDAR