BEGIN:VCALENDAR
VERSION:2.0
PRODID:-//ESSC-D - ECPv6.15.20//NONSGML v1.0//EN
CALSCALE:GREGORIAN
METHOD:PUBLISH
X-ORIGINAL-URL:https://www.sixsigmaclub.de
X-WR-CALDESC:Veranstaltungen für ESSC-D
REFRESH-INTERVAL;VALUE=DURATION:PT1H
X-Robots-Tag:noindex
X-PUBLISHED-TTL:PT1H
BEGIN:VTIMEZONE
TZID:Europe/Berlin
BEGIN:DAYLIGHT
TZOFFSETFROM:+0100
TZOFFSETTO:+0200
TZNAME:CEST
DTSTART:20210328T010000
END:DAYLIGHT
BEGIN:STANDARD
TZOFFSETFROM:+0200
TZOFFSETTO:+0100
TZNAME:CET
DTSTART:20211031T010000
END:STANDARD
BEGIN:DAYLIGHT
TZOFFSETFROM:+0100
TZOFFSETTO:+0200
TZNAME:CEST
DTSTART:20220327T010000
END:DAYLIGHT
BEGIN:STANDARD
TZOFFSETFROM:+0200
TZOFFSETTO:+0100
TZNAME:CET
DTSTART:20221030T010000
END:STANDARD
BEGIN:DAYLIGHT
TZOFFSETFROM:+0100
TZOFFSETTO:+0200
TZNAME:CEST
DTSTART:20230326T010000
END:DAYLIGHT
BEGIN:STANDARD
TZOFFSETFROM:+0200
TZOFFSETTO:+0100
TZNAME:CET
DTSTART:20231029T010000
END:STANDARD
END:VTIMEZONE
BEGIN:VEVENT
DTSTART;TZID=Europe/Berlin:20220225T150000
DTEND;TZID=Europe/Berlin:20220225T160000
DTSTAMP:20260425T204132
CREATED:20220201T161446Z
LAST-MODIFIED:20220215T200557Z
UID:2180-1645801200-1645804800@www.sixsigmaclub.de
SUMMARY:Lebensdauer oder Zuverlässigkeit\, das ist hier die Frage
DESCRIPTION:Kurzbeschreibung: \nDie Themen Lebensdauer und Zuverlässigkeit sind stets präsent. In Katalogen und Broschüren findet man oft „interessante“ Angaben zu Lebensdauern. Selbst bei Diskussionen zum Thema stehen oft „Meinungen“ im Vordergrund. In diesem Vortrag wird an einem Praxisbeispiel aufgezeigt\, wie Lebensdauer und Zuverlässigkeit zusammenhängen und was für die Ermittlung der Zuverlässigkeit zu beachten ist. Ebenso werden typische Anwendungsbereiche der Zuverlässigkeitstechnik kurz vorgestellt. \nReferent: Herr Thomas Rittler\, Festo SE & Co. KG \n 
URL:https://www.sixsigmaclub.de/event/lebensdauer-oder-zuverlaessigkeit-das-ist-hier-die-frage/
LOCATION:Online-Vortrag
CATEGORIES:Online-Vortrag
ATTACH;FMTTYPE=image/jpeg:https://www.sixsigmaclub.de/wp-content/uploads/2022/02/OnlineVortag_Zuverlaessigkeit-e1643731964417.jpg
ORGANIZER;CN="European Six Sigma Club Deutschland e.V.":MAILTO:buero@sixsigmaclub.de
END:VEVENT
END:VCALENDAR