BEGIN:VCALENDAR
VERSION:2.0
PRODID:-//ESSC-D - ECPv6.15.20//NONSGML v1.0//EN
CALSCALE:GREGORIAN
METHOD:PUBLISH
X-ORIGINAL-URL:https://www.sixsigmaclub.de
X-WR-CALDESC:Veranstaltungen für ESSC-D
REFRESH-INTERVAL;VALUE=DURATION:PT1H
X-Robots-Tag:noindex
X-PUBLISHED-TTL:PT1H
BEGIN:VTIMEZONE
TZID:Europe/Berlin
BEGIN:DAYLIGHT
TZOFFSETFROM:+0100
TZOFFSETTO:+0200
TZNAME:CEST
DTSTART:20210328T010000
END:DAYLIGHT
BEGIN:STANDARD
TZOFFSETFROM:+0200
TZOFFSETTO:+0100
TZNAME:CET
DTSTART:20211031T010000
END:STANDARD
BEGIN:DAYLIGHT
TZOFFSETFROM:+0100
TZOFFSETTO:+0200
TZNAME:CEST
DTSTART:20220327T010000
END:DAYLIGHT
BEGIN:STANDARD
TZOFFSETFROM:+0200
TZOFFSETTO:+0100
TZNAME:CET
DTSTART:20221030T010000
END:STANDARD
BEGIN:DAYLIGHT
TZOFFSETFROM:+0100
TZOFFSETTO:+0200
TZNAME:CEST
DTSTART:20230326T010000
END:DAYLIGHT
BEGIN:STANDARD
TZOFFSETFROM:+0200
TZOFFSETTO:+0100
TZNAME:CET
DTSTART:20231029T010000
END:STANDARD
END:VTIMEZONE
BEGIN:VEVENT
DTSTART;TZID=Europe/Berlin:20221007T150000
DTEND;TZID=Europe/Berlin:20221007T163000
DTSTAMP:20260423T010236
CREATED:20220422T132451Z
LAST-MODIFIED:20220920T120538Z
UID:2390-1665154800-1665160200@www.sixsigmaclub.de
SUMMARY:Statistische Prozesssteuerung - neu gedacht für Verbesserungen in der Gesundheitsvorsorge
DESCRIPTION:Online-Vortrag. \nFür dieses online-Seminar haben wir den dänischen Arzt Jacob Anhøj gewinnen können. Seit gut 20 Jahren beschäftigt er sich mit statistischer Prozesskontrolle und kann uns manche neue Perspektive aufzeigen. So sagt er zum Beispiel: \n„Die Gesundheit einer Person können wir nicht in der gleichen Weise steuern wie den Durchmesser einer Schraube oder die Konzentration einer chemischen Lösung. Das müssen wir bei der Prozesssteuerung berücksichtigen.“ \nWir freuen uns deshalb auf neue Impulse und eine anregende Diskussion und fügen den von Herrn Anhøj verfassten „Abstract“ an\, den wir für lesenswert halten. Wir empfehlen auch die unten aufgeführten Referenzen. \nHinweis:\nDieser Vortrag wird auf Englisch gehalten.\nFragen können auch auf Deutsch gestellt werden. \n+++ Dieser Vortrag war ursprünglich für den 16. September geplant. Aufgrund technischer Probleme haben wir ihn auf den 7. Oktober verschoben. ++++ \n  \nRethinking statistical process control for healthcare improvement \nStatistical process control (SPC) was originally developed as a tool to monitor and control the quality of goods produced in the manufacturing industry. Today SPC has found its way into service industries including healthcare. While the thinking behind SPC is the same regardless of the domain\, the practical application of SPC varies somewhat.\n\nFirst\, healthcare is all about people\, which which we\, contrary to what we like to believe\, have very little control over. We cannot simply adjust the health of a person in the same way that we can adjust the diameter of a bolt or the concentration of a chemical solution. For this reason\, SPC in healthcare is more about processes (what we do) than about outcomes (what happens). Also\, because of the huge knowing-doing gap\, SPC in healthcare is much more about improving processes that controlling them.\n\nSecond\, healthcare workers and managers are generally not trained in SPC\, and very few know how to construct and interpret a Shewhart control chart. Perhaps for this reason run charts have become popular. A run chart is a time series chart without control limits and with the median as the centre line. It is easy to construct using only pen and paper. Runs analysis comprise test for non-random variation in the distribution of data points around the median and makes no assumptions regarding the underlying theoretical distribution of data.\n\nRun charts are generally considered less useful than control charts. \nIn reality\, runs analysis\, applied sensibly\, is better at detecting minor persistent shifts in data over time than the traditional Shewhart control chart.\n\nThis talk will introduce the concept of runs analysis and its application and suggest a way to reconcile run and control charts to get the best of both worlds.\n\n\n\nReferences\n\nJacob Anhøj\, Anne Vingaard Olesen (2014). Run Charts Revisited: A Simulation Study of Run Chart Rules for Detection of Non-Random Variation in Health Care Processes (https://journals.plos.org/plosone/article?id=10.1371/journal.pone.0113825)\n\nJacob Anhøj (2015). Diagnostic Value of Run Chart Analysis: Using Likelihood Ratios to Compare Run Chart Rules on Simulated Data Series (https://journals.plos.org/plosone/article?id=10.1371/journal.pone.0121349)\n\nJacob Anhøj\, Anne-Marie Blok Hellesøe (2017). The problem with red\, amber\, green: the need to avoid distraction by random variation in organisational performance measures (https://qualitysafety.bmj.com/content/26/1/81)\n\nJacob Anhøj\, Tore Wentzel-Larsen (2018). Sense and sensibility: on the diagnostic value of control chart rules for detection of shifts in time series data (https://bmcmedresmethodol.biomedcentral.com/articles/10.1186/s12874-018-0564-0)\n\nJacob Anhøj\, Tore Wentzel-Larsen (2020). Smooth operator: Modifying the Anhøj rules to improve runs analysis in statistical process control (https://journals.plos.org/plosone/article?id=10.1371/journal.pone.0233920)\n\nJacob Anhøj (2022). Quality Improvement Charts - An implementation of statistical process control charts for R (https://anhoej.github.io/qicharts2/articles/qicharts2.html)
URL:https://www.sixsigmaclub.de/event/statistische-prozesssteuerung-neu-gedacht-fuer-verbesserungen-in-der-gesundheitsvorsorge/
LOCATION:Online-Vortrag
CATEGORIES:Online-Vortrag
ATTACH;FMTTYPE=image/png:https://www.sixsigmaclub.de/wp-content/uploads/TempAnhoj.png
ORGANIZER;CN="European Six Sigma Club Deutschland e.V.":MAILTO:buero@sixsigmaclub.de
END:VEVENT
BEGIN:VEVENT
DTSTART;TZID=Europe/Berlin:20221014T150000
DTEND;TZID=Europe/Berlin:20221014T160000
DTSTAMP:20260423T010236
CREATED:20220608T121101Z
LAST-MODIFIED:20220608T121531Z
UID:2435-1665759600-1665763200@www.sixsigmaclub.de
SUMMARY:Lernen 2.0 - Was bei alternativen Formen der Wissensvermittlung zu beachten ist!
DESCRIPTION:Kurztext \nDer Arbeitskreis Lernen 2.0 hat sich mit alternativen Lernformen und Wissensvermittlung beschäftigt. Durch die Corona-Krise sind Online-Varianten\, asynchrones Training oder blended Learning als Alternativen zu dem klassischen Präsenztraining in den Fokus gerückt. Im Arbeitskreis und in einem Workshop auf den Konferenz 2022 in Berlin wurden die Vor- und Nachteile beleuchtet. Die Ergebnisse dieser Arbeit und was bei alternativen Formen der Wissensvermittlung zu beachten ist\, werden in diesem Online-Vortrag einem breiten Publikum vorgestellt.
URL:https://www.sixsigmaclub.de/event/lernen-2-0-was-bei-alternativen-formen-der-wissensvermittlung-zu-beachten-ist/
LOCATION:Online-Vortrag
CATEGORIES:Online-Vortrag
ATTACH;FMTTYPE=image/png:https://www.sixsigmaclub.de/wp-content/uploads/Bildschirmfoto-2022-06-08-um-13.44.45-e1654690140724.png
ORGANIZER;CN="European Six Sigma Club Deutschland e.V.":MAILTO:buero@sixsigmaclub.de
END:VEVENT
BEGIN:VEVENT
DTSTART;TZID=Europe/Berlin:20221019T080000
DTEND;TZID=Europe/Berlin:20221021T170000
DTSTAMP:20260423T010236
CREATED:20220608T123032Z
LAST-MODIFIED:20220608T123032Z
UID:2439-1666166400-1666371600@www.sixsigmaclub.de
SUMMARY:Advanced Statistik Workshop Teil 2 - offen für Teilnehmer
DESCRIPTION:Teil 2 des beliebten Advanced Statistik Workshop beschäftigt sich wieder mit interessanten statistischen Werkzeugen aus dem Alltag der Black Belts und Master Black Belts. Damit stellt diese Veranstaltung einen weiteren wertvollen Baustein für die Master Black Belt Ausbildung dar und bietet zugleich interessanten Stoff zur Wiederholung. \nNoch sind einige Plätze frei. Interessenten melden sich bitte bei buero@sixsigmaclub.de!
URL:https://www.sixsigmaclub.de/event/advanced-statistik-workshop-teil-2-offen-fuer-teilnehmer/
CATEGORIES:ESSC-D Workshop / Training
ATTACH;FMTTYPE=image/png:https://www.sixsigmaclub.de/wp-content/uploads/Bildschirmfoto-2022-06-08-um-14.25.57-e1654691402141.png
END:VEVENT
END:VCALENDAR