BEGIN:VCALENDAR
VERSION:2.0
PRODID:-//ESSC-D - ECPv6.15.20//NONSGML v1.0//EN
CALSCALE:GREGORIAN
METHOD:PUBLISH
X-WR-CALNAME:ESSC-D
X-ORIGINAL-URL:https://www.sixsigmaclub.de
X-WR-CALDESC:Veranstaltungen für ESSC-D
REFRESH-INTERVAL;VALUE=DURATION:PT1H
X-Robots-Tag:noindex
X-PUBLISHED-TTL:PT1H
BEGIN:VTIMEZONE
TZID:Europe/Berlin
BEGIN:DAYLIGHT
TZOFFSETFROM:+0100
TZOFFSETTO:+0200
TZNAME:CEST
DTSTART:20220327T010000
END:DAYLIGHT
BEGIN:STANDARD
TZOFFSETFROM:+0200
TZOFFSETTO:+0100
TZNAME:CET
DTSTART:20221030T010000
END:STANDARD
BEGIN:DAYLIGHT
TZOFFSETFROM:+0100
TZOFFSETTO:+0200
TZNAME:CEST
DTSTART:20230326T010000
END:DAYLIGHT
BEGIN:STANDARD
TZOFFSETFROM:+0200
TZOFFSETTO:+0100
TZNAME:CET
DTSTART:20231029T010000
END:STANDARD
BEGIN:DAYLIGHT
TZOFFSETFROM:+0100
TZOFFSETTO:+0200
TZNAME:CEST
DTSTART:20240331T010000
END:DAYLIGHT
BEGIN:STANDARD
TZOFFSETFROM:+0200
TZOFFSETTO:+0100
TZNAME:CET
DTSTART:20241027T010000
END:STANDARD
END:VTIMEZONE
BEGIN:VEVENT
DTSTART;TZID=Europe/Berlin:20230120T153000
DTEND;TZID=Europe/Berlin:20230120T163000
DTSTAMP:20260422T195731
CREATED:20221201T143423Z
LAST-MODIFIED:20221205T174338Z
UID:2556-1674228600-1674232200@www.sixsigmaclub.de
SUMMARY:Online-Veranstaltung: Aus der Krise in die Kraft - Techniken für mehr Zuversicht und Selbstwirksamkeit
DESCRIPTION:Kaum scheint die Corona-Pandemie Teil unseres normalen Alltags zu werden\, konfrontiert uns die Welt mit weiteren Krisen: anhaltende Lieferkettenprobleme\, hohe Inflation\, steigende Energiepreise\,… und die Liste ist noch nicht zu Ende. Wie können wir angesichts dieser Herausforderungen nicht den Kopf in den Sand stecken? Wie gelingt es uns\, vor lauter Krisen den Mut und die Hoffnung nicht zu verlieren? \nLisa Morgner ordnet in diesem Vortrag ein\, welche Reaktionen und Dynamiken entstehen können\, wenn wir uns den Problemen unserer Zeit gegenübersehen. Sie zeigt einfache Wege\, einen Umgang damit zu finden und wie Sie Ihre persönlichen Widerstandskräfte aktivieren können – privat und im Unternehmen.
URL:https://www.sixsigmaclub.de/event/online-veranstaltung-aus-der-krise-in-die-kraft-techniken-fuer-mehr-zuversicht-und-selbstwirksamkeit/
LOCATION:Online-Vortrag
CATEGORIES:Online-Vortrag
ORGANIZER;CN="European Six Sigma Club Deutschland e.V.":MAILTO:buero@sixsigmaclub.de
END:VEVENT
END:VCALENDAR