BEGIN:VCALENDAR
VERSION:2.0
PRODID:-//ESSC-D - ECPv6.15.20//NONSGML v1.0//EN
CALSCALE:GREGORIAN
METHOD:PUBLISH
X-WR-CALNAME:ESSC-D
X-ORIGINAL-URL:https://www.sixsigmaclub.de
X-WR-CALDESC:Veranstaltungen für ESSC-D
REFRESH-INTERVAL;VALUE=DURATION:PT1H
X-Robots-Tag:noindex
X-PUBLISHED-TTL:PT1H
BEGIN:VTIMEZONE
TZID:Europe/Berlin
BEGIN:DAYLIGHT
TZOFFSETFROM:+0100
TZOFFSETTO:+0200
TZNAME:CEST
DTSTART:20220327T010000
END:DAYLIGHT
BEGIN:STANDARD
TZOFFSETFROM:+0200
TZOFFSETTO:+0100
TZNAME:CET
DTSTART:20221030T010000
END:STANDARD
BEGIN:DAYLIGHT
TZOFFSETFROM:+0100
TZOFFSETTO:+0200
TZNAME:CEST
DTSTART:20230326T010000
END:DAYLIGHT
BEGIN:STANDARD
TZOFFSETFROM:+0200
TZOFFSETTO:+0100
TZNAME:CET
DTSTART:20231029T010000
END:STANDARD
BEGIN:DAYLIGHT
TZOFFSETFROM:+0100
TZOFFSETTO:+0200
TZNAME:CEST
DTSTART:20240331T010000
END:DAYLIGHT
BEGIN:STANDARD
TZOFFSETFROM:+0200
TZOFFSETTO:+0100
TZNAME:CET
DTSTART:20241027T010000
END:STANDARD
END:VTIMEZONE
BEGIN:VEVENT
DTSTART;TZID=Europe/Berlin:20230301T100000
DTEND;TZID=Europe/Berlin:20230301T140000
DTSTAMP:20260422T162133
CREATED:20230214T074448Z
LAST-MODIFIED:20230214T074448Z
UID:2800-1677664800-1677679200@www.sixsigmaclub.de
SUMMARY:Industrie-Workshop "Vorkalkulation des CO2 Footprints in der Entwicklungsphase"
DESCRIPTION:Zum Industrie-Workshop „Vorkalkulation des CO2 Footprints in der Entwicklungsphase“ am 01.03.2023 von 10:00 – 14:00 Uhr im digiZ-Standort Heidenheim\, Leibniz-Campus 7 möchten wir Sie ganz herzlich einladen. \nZiel dieser Veranstaltung ist es\, die aktuellen Möglichkeiten für die Berechnung von Nachhaltigkeitsdaten in für Komponenten darzustellen und gemeinsam zukünftige Entwicklungen anzustoßen. \nZunächst werden die Anwendungsfälle und Lösungen einer Software des Hersteller SIMUS vorgestellt. Anschließend werden die Teilnehmenden gemeinsam unter Moderation eine Roadmap dahingehend entwickelt\, wo sie aktuell stehen und welche zusätzlichen Nachhaltigkeitsfaktoren für Ihr Unternehmen zukünftig noch relevant werden können. \nDie Veranstaltung richtet sich an Entscheidungsträger aus Entwicklung\, Supply Chain und Sustainability – die maximale Teilnehmeranzahl beschränkt sich auf 20 Plätze maximal. \nUm Ihnen die Thematik etwas zu veranschaulichen\, möchten wir hierzu Näheres ausführen: \nDer Klimawandel und die Erderwärmung stellen die Wirtschaft vor große Herausforderungen. Ein klimaneutrales und nachhaltiges Wirtschaften ist inzwischen branchenübergreifend ein unerlässlicher Erfolgsfaktor. Eine scheinbar einfache Aufgabe\, die sich in der praktischen Umsetzung aber zum Teil recht komplex gestaltet. Zum einen müssen Unternehmen sich an Gesetze und Richtlinien halten\, wie das ab Januar 2023 inkrafttretende Lieferkettengesetz. Zum anderen steigen die Anforderungen an Unternehmen kontinuierlich\, da die Attraktivität der Unternehmen zunehmend anhand ihres nachhaltigen Handelns gemessen und bewertet wird. Daher ist es gerade für produzierende Betriebe wichtiger denn je\, eine systematische Herangehensweise zur Erfassung möglicher Emissionen in ihren Fertigungsprozessen zu implementieren. \nDer Softwarehersteller SIMUS bietet mit seinem Programm Classmate Unternehmen vielfältige Möglichkeiten erforderliche Daten aus der Wertschöpfungskette zu ermitteln\, zu quantifizieren und zu strukturieren. \nIn Zukunft sollen die durch das Programm berechneten Vorhersagen nicht nur zu Prozess- und Kostenoptimierung\, sondern auch parallel zur Berechnung und Reduzierung eines CO2-Fußabdrucks verwendet werden. \nDiese Veranstaltung des DGQ Regionalkreises Ostalb-Donau findet in Kooperation mit dem Digitalisierungszentrum Ostwürttemberg der IHK Ostwürttemberg (digiZ) und dem European SixSigma Club Deutschland e.V. (ESSC-D) statt. \nWeitere Informationen und Anmeldung bei Frau Fetzer\, fetzer@ostwuerttemberg.ihk.de
URL:https://www.sixsigmaclub.de/event/industrie-workshop-vorkalkulation-des-co2-footprints-in-der-entwicklungsphase/
CATEGORIES:ESSC-D Workshop / Training
ATTACH;FMTTYPE=image/jpeg:https://www.sixsigmaclub.de/wp-content/uploads/2021/10/ESSC_D_TrainingWorkshop-e1633448009650.jpg
END:VEVENT
BEGIN:VEVENT
DTSTART;TZID=Europe/Berlin:20230316T080000
DTEND;TZID=Europe/Berlin:20230317T170000
DTSTAMP:20260422T162133
CREATED:20221101T070015Z
LAST-MODIFIED:20230309T073250Z
UID:2545-1678953600-1679072400@www.sixsigmaclub.de
SUMMARY:Jetzt Anmelden - Six Sigma Fachkonferenz 16.+17. März 2023
DESCRIPTION:Wie jedes Jahr – auch diesmal bietet der ESSC-D einen interessanten Mix an Vorträgen\, Workshops und Raum Erfahrungsaustausch.\n2023 in Wiesbaden Niedernhausen. Den aktuellen Stand der Agenda inklusive Anmeldemöglichkeit können Sie sich hier anschauen und herunterladen. \nSie haben Fragen oder wünschen ergänzende Informationem zur Fachkonferenz oder dem Verein?\nSehr gerne sind wir für Sie da. Kontakt \nWir sehen uns
URL:https://www.sixsigmaclub.de/event/save-the-date-six-sigma-fachkonferenz-16-17-maerz-2023/
CATEGORIES:Fachkonferenz
END:VEVENT
END:VCALENDAR