BEGIN:VCALENDAR
VERSION:2.0
PRODID:-//ESSC-D - ECPv6.15.20//NONSGML v1.0//EN
CALSCALE:GREGORIAN
METHOD:PUBLISH
X-WR-CALNAME:ESSC-D
X-ORIGINAL-URL:https://www.sixsigmaclub.de
X-WR-CALDESC:Veranstaltungen für ESSC-D
REFRESH-INTERVAL;VALUE=DURATION:PT1H
X-Robots-Tag:noindex
X-PUBLISHED-TTL:PT1H
BEGIN:VTIMEZONE
TZID:Europe/Berlin
BEGIN:DAYLIGHT
TZOFFSETFROM:+0100
TZOFFSETTO:+0200
TZNAME:CEST
DTSTART:20220327T010000
END:DAYLIGHT
BEGIN:STANDARD
TZOFFSETFROM:+0200
TZOFFSETTO:+0100
TZNAME:CET
DTSTART:20221030T010000
END:STANDARD
BEGIN:DAYLIGHT
TZOFFSETFROM:+0100
TZOFFSETTO:+0200
TZNAME:CEST
DTSTART:20230326T010000
END:DAYLIGHT
BEGIN:STANDARD
TZOFFSETFROM:+0200
TZOFFSETTO:+0100
TZNAME:CET
DTSTART:20231029T010000
END:STANDARD
BEGIN:DAYLIGHT
TZOFFSETFROM:+0100
TZOFFSETTO:+0200
TZNAME:CEST
DTSTART:20240331T010000
END:DAYLIGHT
BEGIN:STANDARD
TZOFFSETFROM:+0200
TZOFFSETTO:+0100
TZNAME:CET
DTSTART:20241027T010000
END:STANDARD
END:VTIMEZONE
BEGIN:VEVENT
DTSTART;TZID=Europe/Berlin:20230616T150000
DTEND;TZID=Europe/Berlin:20230616T163000
DTSTAMP:20260422T112842
CREATED:20230407T184524Z
LAST-MODIFIED:20230407T184524Z
UID:2985-1686927600-1686933000@www.sixsigmaclub.de
SUMMARY:Businessmodell- und Prozessoptimierungs - Anwendungsbeispiele des MITO - Methoden - Tools aus der Praxis
DESCRIPTION:Am Fr. 16.06.2023\, um 15:00 Uhr berichtet Prof. Dr.-Ing. Hartmut Binner online über die von ihm entwickelten MITO-Methoden Tools. Die Teilnahme ist kostenlos\, wir freuen uns über Ihr Interesse.\n\nVorgestellt wird der Methodeneinsatz des MITO-Methoden-Tools über ein standardisiertesVorgehensmodell mit Analyse-\, Diagnose-\, Therapie-\, Evaluierungs-Problemlösungszyklusses anhand ausgewählter Praxisbeispiele.\n\nGanzheitlicher Organisationssystem-Gestaltungsansatz MITO-Methoden-Tool Anwendung\n\nGeschäftsmodell\nInnovationsbewertung\nMehrstufige Risiko und Gefährdungsanalyse\nKontinuierliche Verbesserungsprozess (KVP)-Umsetzung\nIshikawa-Problemlösungsansatz am Beispiel „Wertstromanalyse“\nCompliancemanagement-Regelwerk-Audit\nCSR-Präqualifikations-Audit\nQM-System-Managementreview nach der DIN EN ISO 9001-2015\nQualitative Zielvereinbarungen und -bewertungen\nPsychische Belastungs-Audits\nAntikorruptionsanalyse und -bewertung\nZertifizierte ERP/MES-Einführung\nSystematische Prozessauswahlanalyse\nProzessdigitalisierungs-Komponentenauswahl und Vernetzungsanalyse
URL:https://www.sixsigmaclub.de/event/businessmodell-und-prozessoptimierungs-anwendungsbeispiele-des-mito-methoden-tools-aus-der-praxis/
ATTACH;FMTTYPE=image/png:https://www.sixsigmaclub.de/wp-content/uploads/Bildschirmfoto-2023-04-07-um-20.41.13.png
END:VEVENT
BEGIN:VEVENT
DTSTART;TZID=Europe/Berlin:20230623T153000
DTEND;TZID=Europe/Berlin:20230623T170000
DTSTAMP:20260422T112842
CREATED:20230329T133040Z
LAST-MODIFIED:20230329T133527Z
UID:2974-1687534200-1687539600@www.sixsigmaclub.de
SUMMARY:Mitgliederversammlung des European Six Sigma Club Deutschland e.V.
DESCRIPTION:Am Freitag\, 23. Juni findet von 15:30 – 17:00 Uhr die Mitgliederversammlung des ESSC-D e.V. über Zoom statt. Mitglieder bekommen den Meeting – Link vorab per E-Mail mitgeteilt. Eine Anmeldung ist nicht erforderlich. Wir freuen uns auf den Austausch zur Weiterentwicklung unseres Vereins!
URL:https://www.sixsigmaclub.de/event/mitgliederversammlung/
LOCATION:Online
CATEGORIES:Mitgliederversammlung
ORGANIZER;CN="European Six Sigma Club Deutschland e.V.":MAILTO:buero@sixsigmaclub.de
END:VEVENT
END:VCALENDAR