BEGIN:VCALENDAR
VERSION:2.0
PRODID:-//ESSC-D - ECPv6.15.20//NONSGML v1.0//EN
CALSCALE:GREGORIAN
METHOD:PUBLISH
X-ORIGINAL-URL:https://www.sixsigmaclub.de
X-WR-CALDESC:Veranstaltungen für ESSC-D
REFRESH-INTERVAL;VALUE=DURATION:PT1H
X-Robots-Tag:noindex
X-PUBLISHED-TTL:PT1H
BEGIN:VTIMEZONE
TZID:Europe/Berlin
BEGIN:DAYLIGHT
TZOFFSETFROM:+0100
TZOFFSETTO:+0200
TZNAME:CEST
DTSTART:20220327T010000
END:DAYLIGHT
BEGIN:STANDARD
TZOFFSETFROM:+0200
TZOFFSETTO:+0100
TZNAME:CET
DTSTART:20221030T010000
END:STANDARD
BEGIN:DAYLIGHT
TZOFFSETFROM:+0100
TZOFFSETTO:+0200
TZNAME:CEST
DTSTART:20230326T010000
END:DAYLIGHT
BEGIN:STANDARD
TZOFFSETFROM:+0200
TZOFFSETTO:+0100
TZNAME:CET
DTSTART:20231029T010000
END:STANDARD
BEGIN:DAYLIGHT
TZOFFSETFROM:+0100
TZOFFSETTO:+0200
TZNAME:CEST
DTSTART:20240331T010000
END:DAYLIGHT
BEGIN:STANDARD
TZOFFSETFROM:+0200
TZOFFSETTO:+0100
TZNAME:CET
DTSTART:20241027T010000
END:STANDARD
END:VTIMEZONE
BEGIN:VEVENT
DTSTART;TZID=Europe/Berlin:20231110T150000
DTEND;TZID=Europe/Berlin:20231110T160000
DTSTAMP:20260422T033209
CREATED:20230810T125345Z
LAST-MODIFIED:20230920T064826Z
UID:3383-1699628400-1699632000@www.sixsigmaclub.de
SUMMARY:8D Projekt: D2 Problembeschreibung ist die wichtigste und dringendste Phase
DESCRIPTION:What’s new: Bedeutung von Personal- und Datenresourcen bei der Ermittlung von Beschreibung und Betroffenheit von Produkten.\nHow it works: Erfahrungsaustausch zu „dos and don’ts”\nWhy it matters: Hier entscheidet sich\, ob der 8D funktionieren kann\, oder ob er dem Problemowner um die Ohren fliegt.\nWe’re thinking: … ist die wichtigste und die dringendste Phase im 8D. \n  \nReferent: Jochen Koch – JBB Seminars GmbH – Academy For Industrial Analytics \n  \n___________________________________________________________________________ \n \n  \n  \nWeitere interessante Termine rund um das Qualitätswesen finden Sie im Terminkalender der QZ-online.de\n___________________________________________________________________________ \n 
URL:https://www.sixsigmaclub.de/event/8d-projekt-d2-problembeschreibung-ist-die-wichtigste-und-dringendste-phase/
LOCATION:Online-Vortrag
CATEGORIES:Online-Vortrag
ATTACH;FMTTYPE=image/png:https://www.sixsigmaclub.de/wp-content/uploads/8DVortag_ESSC-e1694167498262.png
ORGANIZER;CN="European Six Sigma Club Deutschland e.V.":MAILTO:buero@sixsigmaclub.de
END:VEVENT
END:VCALENDAR