BEGIN:VCALENDAR
VERSION:2.0
PRODID:-//ESSC-D - ECPv6.15.20//NONSGML v1.0//EN
CALSCALE:GREGORIAN
METHOD:PUBLISH
X-ORIGINAL-URL:https://www.sixsigmaclub.de
X-WR-CALDESC:Veranstaltungen für ESSC-D
REFRESH-INTERVAL;VALUE=DURATION:PT1H
X-Robots-Tag:noindex
X-PUBLISHED-TTL:PT1H
BEGIN:VTIMEZONE
TZID:Europe/Berlin
BEGIN:DAYLIGHT
TZOFFSETFROM:+0100
TZOFFSETTO:+0200
TZNAME:CEST
DTSTART:20230326T010000
END:DAYLIGHT
BEGIN:STANDARD
TZOFFSETFROM:+0200
TZOFFSETTO:+0100
TZNAME:CET
DTSTART:20231029T010000
END:STANDARD
BEGIN:DAYLIGHT
TZOFFSETFROM:+0100
TZOFFSETTO:+0200
TZNAME:CEST
DTSTART:20240331T010000
END:DAYLIGHT
BEGIN:STANDARD
TZOFFSETFROM:+0200
TZOFFSETTO:+0100
TZNAME:CET
DTSTART:20241027T010000
END:STANDARD
BEGIN:DAYLIGHT
TZOFFSETFROM:+0100
TZOFFSETTO:+0200
TZNAME:CEST
DTSTART:20250330T010000
END:DAYLIGHT
BEGIN:STANDARD
TZOFFSETFROM:+0200
TZOFFSETTO:+0100
TZNAME:CET
DTSTART:20251026T010000
END:STANDARD
END:VTIMEZONE
BEGIN:VEVENT
DTSTART;TZID=Europe/Berlin:20240524T150000
DTEND;TZID=Europe/Berlin:20240524T160000
DTSTAMP:20260421T174329
CREATED:20240415T162438Z
LAST-MODIFIED:20240417T140608Z
UID:86447-1716562800-1716566400@www.sixsigmaclub.de
SUMMARY:Prozessverständnis versus Naturverständnis
DESCRIPTION:Online-Vortrag von Daniel Fügner\, Additive GmbH \nEgal ob man seinen Prozess oder die Natur besser verstehen möchte – die Herausforderungen der Datenanalyse sind doch stets die gleichen: Beides benötigt fundierten Daten\, clevere Analysen und den gesunden Menschenverstand. Am Beispiel meines „Hausflusses“\, der Nidder möchte ich all das demonstrieren. Speziell geht es um die Themen Hochwasser\, Temperatur und Wassermenge über die Jahr(zehnt)e. Sicherlich lässt sich die ein oder andere Idee direkt auf deine eigene Prozesswelt übertragen. Auch werden wir am Ende nicht an dem Thema des Klimawandels vorbeikommen. \n_________________________________________________________________________________ \n \n  \n  \nWeitere interessante Termine rund um das Qualitätswesen finden Sie im Terminkalender der QZ-online.de\n_________________________________________________________________________________
URL:https://www.sixsigmaclub.de/event/prozessverstaendnis-naturverstaendnis/
LOCATION:Online-Vortrag
CATEGORIES:Online-Vortrag
ATTACH;FMTTYPE=image/png:https://www.sixsigmaclub.de/wp-content/uploads/ESSC-Vortrag.png
ORGANIZER;CN="European Six Sigma Club Deutschland e.V.":MAILTO:buero@sixsigmaclub.de
END:VEVENT
END:VCALENDAR