BEGIN:VCALENDAR
VERSION:2.0
PRODID:-//ESSC-D - ECPv6.15.20//NONSGML v1.0//EN
CALSCALE:GREGORIAN
METHOD:PUBLISH
X-ORIGINAL-URL:https://www.sixsigmaclub.de
X-WR-CALDESC:Veranstaltungen für ESSC-D
REFRESH-INTERVAL;VALUE=DURATION:PT1H
X-Robots-Tag:noindex
X-PUBLISHED-TTL:PT1H
BEGIN:VTIMEZONE
TZID:Europe/Berlin
BEGIN:DAYLIGHT
TZOFFSETFROM:+0100
TZOFFSETTO:+0200
TZNAME:CEST
DTSTART:20230326T010000
END:DAYLIGHT
BEGIN:STANDARD
TZOFFSETFROM:+0200
TZOFFSETTO:+0100
TZNAME:CET
DTSTART:20231029T010000
END:STANDARD
BEGIN:DAYLIGHT
TZOFFSETFROM:+0100
TZOFFSETTO:+0200
TZNAME:CEST
DTSTART:20240331T010000
END:DAYLIGHT
BEGIN:STANDARD
TZOFFSETFROM:+0200
TZOFFSETTO:+0100
TZNAME:CET
DTSTART:20241027T010000
END:STANDARD
BEGIN:DAYLIGHT
TZOFFSETFROM:+0100
TZOFFSETTO:+0200
TZNAME:CEST
DTSTART:20250330T010000
END:DAYLIGHT
BEGIN:STANDARD
TZOFFSETFROM:+0200
TZOFFSETTO:+0100
TZNAME:CET
DTSTART:20251026T010000
END:STANDARD
END:VTIMEZONE
BEGIN:VEVENT
DTSTART;TZID=Europe/Berlin:20240621T143000
DTEND;TZID=Europe/Berlin:20240621T160000
DTSTAMP:20260421T155044
CREATED:20240418T175341Z
LAST-MODIFIED:20240418T175523Z
UID:86458-1718980200-1718985600@www.sixsigmaclub.de
SUMMARY:Mitgliederversammlung 2024 des ESSC-D
DESCRIPTION:Liebe Mitglieder des European Six Sigma Club Deutschland\, \nwir freuen uns\, Sie zur diesjährigen Mitgliederversammlung einladen zu dürfen\, die am 21. Juni 2024 online stattfinden wird. Diese Zusammenkunft bietet wieder die Gelegenheit\, sich auszutauschen\, gemeinsam auf das vergangene Jahr zurückzublicken und die Weichen für die Zukunft zu stellen. \nHinweis: Die offizielle Einladung\, inklusive Tagesordnung und Einwahlinformationen erreicht(e) alle Vereinsmitglieder in KW 18 per E-Mail. \nEin paar der wichtigen Eckpunkte: \n\nBerichte des Vorstands aus dem Jahr 2023\nErfahrungen aus Online-Veranstaltungen\nRückblick auf die Fachkonferenz in Niedernhausen\nSchwerpunktaktivitäten und Haushaltsplan 2024/2025:\nNeuwahlen des Vorstands\n\nDie Mitgliederversammlung ist ein Kernmoment unseres/Ihres Vereins\, um die Stimme jedes Mitglieds zu hören und aktiv an der Gestaltung teilzunehmen. Ihre Teilnahme ist entscheidend für den Erfolg unserer Initiativen und die Weiterentwicklung von Six Sigma. \nBitte merken Sie sich den Termin vor und halten Sie Ausschau nach weiteren Informationen\, die wir in Kürze bereitstellen werden. Wir freuen uns darauf\, Sie persönlich zu begrüßen und gemeinsam die Zukunft des ESSC-D zu gestalten. \nMit besten Grüßen\,\nIhr Vorstand des ESSC-D
URL:https://www.sixsigmaclub.de/event/mitgliederversammlung-2024-des-essc-d/
CATEGORIES:Mitgliederversammlung
ATTACH;FMTTYPE=image/jpeg:https://www.sixsigmaclub.de/wp-content/uploads/2021/07/ESSC_Logo-1.jpg
END:VEVENT
END:VCALENDAR