BEGIN:VCALENDAR
VERSION:2.0
PRODID:-//ESSC-D - ECPv6.15.20//NONSGML v1.0//EN
CALSCALE:GREGORIAN
METHOD:PUBLISH
X-ORIGINAL-URL:https://www.sixsigmaclub.de
X-WR-CALDESC:Veranstaltungen für ESSC-D
REFRESH-INTERVAL;VALUE=DURATION:PT1H
X-Robots-Tag:noindex
X-PUBLISHED-TTL:PT1H
BEGIN:VTIMEZONE
TZID:Europe/Berlin
BEGIN:DAYLIGHT
TZOFFSETFROM:+0100
TZOFFSETTO:+0200
TZNAME:CEST
DTSTART:20230326T010000
END:DAYLIGHT
BEGIN:STANDARD
TZOFFSETFROM:+0200
TZOFFSETTO:+0100
TZNAME:CET
DTSTART:20231029T010000
END:STANDARD
BEGIN:DAYLIGHT
TZOFFSETFROM:+0100
TZOFFSETTO:+0200
TZNAME:CEST
DTSTART:20240331T010000
END:DAYLIGHT
BEGIN:STANDARD
TZOFFSETFROM:+0200
TZOFFSETTO:+0100
TZNAME:CET
DTSTART:20241027T010000
END:STANDARD
BEGIN:DAYLIGHT
TZOFFSETFROM:+0100
TZOFFSETTO:+0200
TZNAME:CEST
DTSTART:20250330T010000
END:DAYLIGHT
BEGIN:STANDARD
TZOFFSETFROM:+0200
TZOFFSETTO:+0100
TZNAME:CET
DTSTART:20251026T010000
END:STANDARD
END:VTIMEZONE
BEGIN:VEVENT
DTSTART;TZID=Europe/Berlin:20240705T150000
DTEND;TZID=Europe/Berlin:20240705T163000
DTSTAMP:20260421T142013
CREATED:20240506T125143Z
LAST-MODIFIED:20240522T150722Z
UID:86488-1720191600-1720197000@www.sixsigmaclub.de
SUMMARY:Künstliche Intelligenz (KI) als Sparringspartnerin in unserem Projektteam
DESCRIPTION:Die Künstliche Intelligenz (KI) als Sparringspartnerin in unserem Projektteam. Ein interaktiver Online-Vortag zusammen mit​ unterschiedlichen Super‐Kolleginnen (KIs) am Beispiel einer Messprozessqualifizierung. Wir wollen sie als interdisziplinär aufgestelltes Teammitglied in Sachen Problemlösung\, Ideenfindung und Datenanalyse live nutzen. \nZiel des Online-Vortrags​\nAnwendungsbeispiele Aufzeigen\, Vergleichen und Diskutieren der Potenziale für KI-unterstütze Projektteams. Sie erhalten konkrete Ideen\,​ Methoden und Werkzeuge an die Hand\, die es ihnen ermöglichen\, Ihre bestehenden Arbeitsstandards und -praktiken mit Hilfe künstlicher​ Intelligenz zu unterstützen. \nWas Sie erwartet​\n• Was heute von Menschlicher Intelligenz (MI) und Künstlicher Intelligenz (KI) erwartet wird ​\n• Die Rolle von MI und KI in der heutigen Welt​\n• Wie lernt KI/ML? Mehr Zeit für Kreativität durch die Nutzung der KI?\n• Wir nutzen Chat GPT und andere live als Sparringspartner für unsere „Kreativ-Session“​\n• Wir nutzen Chat GPT live und andere als Statistiker für unsere „Datenanalyse-Session“ \nReferenten: Björn Noreik und Gennadii Tsybelman\nBNB Qualitätsstatistik und Training \n_________________________________________________________________________________ \n \n  \n  \nWeitere interessante Termine rund um das Qualitätswesen finden Sie im Terminkalender der QZ-online.de\n_________________________________________________________________________________ \n 
URL:https://www.sixsigmaclub.de/event/kuenstliche-intelligenz-ki-als-sparringspartnerin-in-unserem-projektteam/
LOCATION:Online-Vortrag
CATEGORIES:Online-Vortrag
ATTACH;FMTTYPE=image/jpeg:https://www.sixsigmaclub.de/wp-content/uploads/KISparringspartnerin-e1714999956592.jpg
ORGANIZER;CN="European Six Sigma Club Deutschland e.V.":MAILTO:buero@sixsigmaclub.de
END:VEVENT
BEGIN:VEVENT
DTSTART;TZID=Europe/Berlin:20240716T180000
DTEND;TZID=Europe/Berlin:20240716T210000
DTSTAMP:20260421T142013
CREATED:20240513T192824Z
LAST-MODIFIED:20240703T183428Z
UID:86496-1721152800-1721163600@www.sixsigmaclub.de
SUMMARY:Six Sigma Stammtisch
DESCRIPTION:Seit über einem Jahrzehnt verbindet der Six Sigma Stammtisch Gleichgesinnte und Experten in einer Atmosphäre der Zusammenarbeit und des Austauschs. Diese Veranstaltung wird in Kooperation mit der IHK Ostwürttemberg\, der DGQ und dem European Six Sigma Club Deutschland e.V. (ESSC-D) realisiert.\n\nIn diesem Jahr laden wir Sie herzlich zu fünf besonderen Treffen am Standort des Digitalisierungszentrums Ostwürttemberg (digiZ) in Heidenheim\, Leibniz-Campus 7\, ein. Jeder Termin bietet eine hervorragende Gelegenheit\, sich zu vernetzen\, neue Erkenntnisse zu gewinnen und gemeinsam in die Zukunft der Digitalisierung und Qualitätssicherung zu blicken. Ihre Teilnahme wird unsere Gemeinschaft bereichern – wir freuen uns auf Sie!\n\n________________________________________________________________________________\n\nTermine 2024: 07.05.  |  16.07.  |  07.10.  |  26.11. jeweils ab 18:00 Uhr \nVeranstaltungsort:\ndigiZ-Standort Heidenheim\nLeibniz-Campus 7\n89520 Heidenheim an der Brenz \nAnmeldung: LINK zur IHK-Anmeldeseite \n_________________________________________________________________________________ \n \n  \n  \nWeitere interessante Termine rund um das Qualitätswesen finden Sie im Terminkalender der QZ-online.de\n_________________________________________________________________________________ \n 
URL:https://www.sixsigmaclub.de/event/six-sigma-stammtisch/
ATTACH;FMTTYPE=image/jpeg:https://www.sixsigmaclub.de/wp-content/uploads/SixSigmaStammtisch-e1715628647881.jpg
END:VEVENT
BEGIN:VEVENT
DTSTART;TZID=Europe/Berlin:20240719T140000
DTEND;TZID=Europe/Berlin:20240719T150000
DTSTAMP:20260421T142013
CREATED:20240604T134623Z
LAST-MODIFIED:20240604T134623Z
UID:86563-1721397600-1721401200@www.sixsigmaclub.de
SUMMARY:Six Sigma und Engineering-KI: Der schnelle Weg zu nachhaltiger Produktabsicherung und stabilen Prozessen
DESCRIPTION:Six Sigma und Engineering-KI: Der schnelle Weg zu nachhaltiger Produktabsicherung und stabilen Prozessen \nIn 3 Six-Sigma-Schritten plus Engineering-KI zu echtzeitfähigen Vorhersagemodellen – auch ohne Big Data. Auf Basis der Vorhersagemodelle errechnet die Engineering-KI die neuen Nominale für Produkte und Prozesse als Best Settings aller Einflussgrößen. Damit lassen sich die Produktqualität nachhaltig verbessern und die Herstellprozesse in Echtzeit steuern. \nReferenten: Frank Thurner\nContech Software & Engineering GmbH \n_________________________________________________________________________________ \n \n  \n  \nWeitere interessante Termine rund um das Qualitätswesen finden Sie im Terminkalender der QZ-online.de\n_________________________________________________________________________________
URL:https://www.sixsigmaclub.de/event/six-sigma-und-engineering-ki-der-schnelle-weg-zu-nachhaltiger-produktabsicherung-und-stabilen-prozessen/
LOCATION:Online-Vortrag
CATEGORIES:Online-Vortrag
ATTACH;FMTTYPE=image/png:https://www.sixsigmaclub.de/wp-content/uploads/ESSC_Vortrag_ContechThurner-e1717508633731.png
ORGANIZER;CN="European Six Sigma Club Deutschland e.V.":MAILTO:buero@sixsigmaclub.de
END:VEVENT
END:VCALENDAR