BEGIN:VCALENDAR
VERSION:2.0
PRODID:-//ESSC-D - ECPv6.15.20//NONSGML v1.0//EN
CALSCALE:GREGORIAN
METHOD:PUBLISH
X-WR-CALNAME:ESSC-D
X-ORIGINAL-URL:https://www.sixsigmaclub.de
X-WR-CALDESC:Veranstaltungen für ESSC-D
REFRESH-INTERVAL;VALUE=DURATION:PT1H
X-Robots-Tag:noindex
X-PUBLISHED-TTL:PT1H
BEGIN:VTIMEZONE
TZID:Europe/Berlin
BEGIN:DAYLIGHT
TZOFFSETFROM:+0100
TZOFFSETTO:+0200
TZNAME:CEST
DTSTART:20230326T010000
END:DAYLIGHT
BEGIN:STANDARD
TZOFFSETFROM:+0200
TZOFFSETTO:+0100
TZNAME:CET
DTSTART:20231029T010000
END:STANDARD
BEGIN:DAYLIGHT
TZOFFSETFROM:+0100
TZOFFSETTO:+0200
TZNAME:CEST
DTSTART:20240331T010000
END:DAYLIGHT
BEGIN:STANDARD
TZOFFSETFROM:+0200
TZOFFSETTO:+0100
TZNAME:CET
DTSTART:20241027T010000
END:STANDARD
BEGIN:DAYLIGHT
TZOFFSETFROM:+0100
TZOFFSETTO:+0200
TZNAME:CEST
DTSTART:20250330T010000
END:DAYLIGHT
BEGIN:STANDARD
TZOFFSETFROM:+0200
TZOFFSETTO:+0100
TZNAME:CET
DTSTART:20251026T010000
END:STANDARD
END:VTIMEZONE
BEGIN:VEVENT
DTSTART;TZID=Europe/Berlin:20240920T143000
DTEND;TZID=Europe/Berlin:20240920T160000
DTSTAMP:20260421T111752
CREATED:20240627T184003Z
LAST-MODIFIED:20240701T172343Z
UID:86816-1726842600-1726848000@www.sixsigmaclub.de
SUMMARY:Einführung in ein Simulationstraining zur systematischen Fehlersuche
DESCRIPTION:Lernen Sie eine bewährte\, praktische Methode der Fehlersuche in einer innovativen und unterhaltsamen Problemlösungssimulation kennen\, bei der die Teilnehmer mit Produktionsmaschinen interagieren und auftretende Probleme auf systematische und effektive Weise beheben. \n  \n\nReduzieren Sie die Zeit\, die zur Problemlösung benötigt wird\nErhöhung der Erstlösungsrate\nVerbessern Sie die Qualität der Dokumentation\n\nReferent: Sascha Laufenberg\, Causenode \n  \n_________________________________________________________________________________ \n \n  \n  \nWeitere interessante Termine rund um das Qualitätswesen finden Sie im Terminkalender der QZ-online.de\n_________________________________________________________________________________
URL:https://www.sixsigmaclub.de/event/einfuehrung-in-ein-simulationstraining-zur-systematischen-fehlersuche/
LOCATION:Online
CATEGORIES:Online-Vortrag
END:VEVENT
END:VCALENDAR