BEGIN:VCALENDAR
VERSION:2.0
PRODID:-//ESSC-D - ECPv6.15.20//NONSGML v1.0//EN
CALSCALE:GREGORIAN
METHOD:PUBLISH
X-WR-CALNAME:ESSC-D
X-ORIGINAL-URL:https://www.sixsigmaclub.de
X-WR-CALDESC:Veranstaltungen für ESSC-D
REFRESH-INTERVAL;VALUE=DURATION:PT1H
X-Robots-Tag:noindex
X-PUBLISHED-TTL:PT1H
BEGIN:VTIMEZONE
TZID:Europe/Berlin
BEGIN:DAYLIGHT
TZOFFSETFROM:+0100
TZOFFSETTO:+0200
TZNAME:CEST
DTSTART:20230326T010000
END:DAYLIGHT
BEGIN:STANDARD
TZOFFSETFROM:+0200
TZOFFSETTO:+0100
TZNAME:CET
DTSTART:20231029T010000
END:STANDARD
BEGIN:DAYLIGHT
TZOFFSETFROM:+0100
TZOFFSETTO:+0200
TZNAME:CEST
DTSTART:20240331T010000
END:DAYLIGHT
BEGIN:STANDARD
TZOFFSETFROM:+0200
TZOFFSETTO:+0100
TZNAME:CET
DTSTART:20241027T010000
END:STANDARD
BEGIN:DAYLIGHT
TZOFFSETFROM:+0100
TZOFFSETTO:+0200
TZNAME:CEST
DTSTART:20250330T010000
END:DAYLIGHT
BEGIN:STANDARD
TZOFFSETFROM:+0200
TZOFFSETTO:+0100
TZNAME:CET
DTSTART:20251026T010000
END:STANDARD
END:VTIMEZONE
BEGIN:VEVENT
DTSTART;TZID=Europe/Berlin:20241016T090000
DTEND;TZID=Europe/Berlin:20241018T170000
DTSTAMP:20260421T094922
CREATED:20240301T122455Z
LAST-MODIFIED:20240304T074718Z
UID:21999-1729069200-1729270800@www.sixsigmaclub.de
SUMMARY:Machine Learning (ML) Praxisworkshop
DESCRIPTION:Ein praxisorientierter Workshop für Datenprofis und diejenigen\, die es werden möchten \nIn der Welt von heute sind datengetriebene Entscheidungen das Rückgrat fortschrittlicher Unternehmen. Die Effizienz und Effektivität dieser Entscheidungen hängen jedoch stark von der Qualität der Datenanalyse ab. Mit dem Aufkommen von Big Data und fortschrittlichen Analysemethoden entstehen sowohl neue Möglichkeiten als auch Herausforderungen. Unser dreitägiger Workshop bietet Six-Sigma Belts und Methodenexperten die perfekte Plattform\, um ihre Fähigkeiten in der modernen Datenanalyse zu verfeinern. \nZielgerichtetes Lernen\nDieser Workshop ist maßgeschneidert für Personen aus Qualitätsmanagement\, Prozess- und Produktentwicklung und andere\, die ihre Kompetenzen in Big Data und Data-Mining erweitern möchten. Mit einem Fokus auf methodische und strukturelle Ansätze werden Sie lernen\, komplexe Datenstrukturen nicht nur zu verstehen\, sondern auch effizient zu analysieren und zu interpretieren. \nPraxisnahe Erfahrungen mit Top-Tools\nTauchen Sie ein in die Welt der fortschrittlichen Datenanalyse mit praktischen Übungen unter Verwendung von Minitab®\, KNIME® und Python in Kombination mit Scikit-Learn. Erleben Sie die Anwendungsmöglichkeiten und die Effizienz dieser Tools im direkten Vergleich und lernen Sie\, wie Sie das Gelernte in Ihre berufliche Praxis übertragen können. \nNutzen Sie die Daten zu Ihrem Vorteil\nOb Sie die Abläufe in Ihrem Unternehmen verbessern\, Kosten reduzieren oder die Kundenzufriedenheit erhöhen möchten\, die im Workshop erworbenen Kenntnisse werden Ihnen dabei helfen\, Ihre Ziele zu erreichen. Sie werden in der Lage sein\, datengetriebene Entscheidungsprozesse in Ihrem Unternehmen zu unterstützen und zu optimieren. \nInhalte und Vorteile des Workshops\nVerstehen und Anwenden: Lernen Sie grundlegende Methoden und essentielle Begrifflichkeiten im Bereich des Machine Learnings kennen und wenden Sie diese an.\nVon Daten zu Lösungen: Entwickeln Sie Fähigkeiten zur Planung und Durchführung eigener Datenanalysen\, mit Fokus auf dem gesamten Prozess von der Datenerfassung bis zur Lösungsfindung.\nFlexible Datenanalyse: Setzen Sie verschiedene statistische Ansätze ein\, um einen flexiblen Zugang zur Datenanalyse zu gewährleisten.\nUniverselles Wissen: Erwerben Sie Kenntnisse\, die universell einsetzbar sind und mit verschiedenen Werkzeugen und Softwarepaketen umgesetzt werden können. \nIhr Weg zum Datenexperten\nDieser Workshop ist mehr als nur eine Schulung – es ist eine Investition in Ihre Zukunft und die Ihres Unternehmens.\nRegistrieren Sie sich jetzt für unseren Workshop und werden Sie zum Meister der Datenanalyse! Weitere Details und Anmeldeung als PDF zum Download. \nReferenten: Prof. Dr. Maik Kschischo\, Hochschule Koblenz -University of applied sciences und Björn Noreik\, BNB-Qualitätsstatistik und Training \n_________________________________________________________________________________ \n \n  \n  \nWeitere interessante Termine rund um das Qualitätswesen finden Sie im Terminkalender der QZ-online.de\n_________________________________________________________________________________
URL:https://www.sixsigmaclub.de/event/machine-learning-ml-praxisworkshop/
LOCATION:Online
CATEGORIES:ESSC-D Workshop / Training
ATTACH;FMTTYPE=image/jpeg:https://www.sixsigmaclub.de/wp-content/uploads/MLWorkshop2024.jpg
ORGANIZER;CN="European Six Sigma Club Deutschland e.V.":MAILTO:buero@sixsigmaclub.de
END:VEVENT
END:VCALENDAR