BEGIN:VCALENDAR
VERSION:2.0
PRODID:-//ESSC-D - ECPv6.15.20//NONSGML v1.0//EN
CALSCALE:GREGORIAN
METHOD:PUBLISH
X-WR-CALNAME:ESSC-D
X-ORIGINAL-URL:https://www.sixsigmaclub.de
X-WR-CALDESC:Veranstaltungen für ESSC-D
REFRESH-INTERVAL;VALUE=DURATION:PT1H
X-Robots-Tag:noindex
X-PUBLISHED-TTL:PT1H
BEGIN:VTIMEZONE
TZID:Europe/Berlin
BEGIN:DAYLIGHT
TZOFFSETFROM:+0100
TZOFFSETTO:+0200
TZNAME:CEST
DTSTART:20240331T010000
END:DAYLIGHT
BEGIN:STANDARD
TZOFFSETFROM:+0200
TZOFFSETTO:+0100
TZNAME:CET
DTSTART:20241027T010000
END:STANDARD
BEGIN:DAYLIGHT
TZOFFSETFROM:+0100
TZOFFSETTO:+0200
TZNAME:CEST
DTSTART:20250330T010000
END:DAYLIGHT
BEGIN:STANDARD
TZOFFSETFROM:+0200
TZOFFSETTO:+0100
TZNAME:CET
DTSTART:20251026T010000
END:STANDARD
BEGIN:DAYLIGHT
TZOFFSETFROM:+0100
TZOFFSETTO:+0200
TZNAME:CEST
DTSTART:20260329T010000
END:DAYLIGHT
BEGIN:STANDARD
TZOFFSETFROM:+0200
TZOFFSETTO:+0100
TZNAME:CET
DTSTART:20261025T010000
END:STANDARD
END:VTIMEZONE
BEGIN:VEVENT
DTSTART;TZID=Europe/Berlin:20250221T143000
DTEND;TZID=Europe/Berlin:20250221T153000
DTSTAMP:20260421T034037
CREATED:20250107T184555Z
LAST-MODIFIED:20250108T203004Z
UID:87454-1740148200-1740151800@www.sixsigmaclub.de
SUMMARY:KI: Zwischen enormem Nutzen und der Gefahr für unser Wohlbefinden
DESCRIPTION:Künstliche Intelligenz steht bereit\, unser Leben grundlegend zu verändern – sowohl im privaten als auch im beruflichen Bereich. Doch wie können wir sicherstellen\, dass sie nicht\, wie viele vermeintliche Zeitsparer vor ihr\, am Ende mehr Zeit und Energie kostet\, als sie einspart? Dieses Webinar beleuchtet die Chancen der KI\, zeigt ihre aktuellen Grenzen auf und bietet praktische Tipps für einen gesunden\, achtsamen Umgang mit dieser revolutionären Technologie. \nÜber den Referenten:\nDaniel Fügner vereint seine Erfahrungen aus der Qualitätsoptimierung als Six Sigma Master Black Belt mit seiner Tätigkeit als Yogalehrer. Diese Kombination ermöglicht ihm\, das Thema KI aus einer einzigartigen Perspektive zu beleuchten – mit einem Blick für Effizienz und einem Fokus auf achtsamen Umgang. \n_________________________________________________________________________________ \n \n  \n  \nWeitere interessante Termine rund um das Qualitätswesen finden Sie im Terminkalender der QZ-online.de\n_________________________________________________________________________________
URL:https://www.sixsigmaclub.de/event/ki-zwischen-enormem-nutzen-und-der-gefahr-fuer-unser-wohlbefinden/
LOCATION:Online-Vortrag
CATEGORIES:Online-Vortrag
ATTACH;FMTTYPE=image/jpeg:https://www.sixsigmaclub.de/wp-content/uploads/KI-Zwischen-enormem-Nutzen-und-der-Gefahr-fuer-unser-Wohlbefinden.jpg
ORGANIZER;CN="European Six Sigma Club Deutschland e.V.":MAILTO:buero@sixsigmaclub.de
END:VEVENT
END:VCALENDAR