BEGIN:VCALENDAR
VERSION:2.0
PRODID:-//ESSC-D - ECPv6.15.20//NONSGML v1.0//EN
CALSCALE:GREGORIAN
METHOD:PUBLISH
X-WR-CALNAME:ESSC-D
X-ORIGINAL-URL:https://www.sixsigmaclub.de
X-WR-CALDESC:Veranstaltungen für ESSC-D
REFRESH-INTERVAL;VALUE=DURATION:PT1H
X-Robots-Tag:noindex
X-PUBLISHED-TTL:PT1H
BEGIN:VTIMEZONE
TZID:Europe/Berlin
BEGIN:DAYLIGHT
TZOFFSETFROM:+0100
TZOFFSETTO:+0200
TZNAME:CEST
DTSTART:20240331T010000
END:DAYLIGHT
BEGIN:STANDARD
TZOFFSETFROM:+0200
TZOFFSETTO:+0100
TZNAME:CET
DTSTART:20241027T010000
END:STANDARD
BEGIN:DAYLIGHT
TZOFFSETFROM:+0100
TZOFFSETTO:+0200
TZNAME:CEST
DTSTART:20250330T010000
END:DAYLIGHT
BEGIN:STANDARD
TZOFFSETFROM:+0200
TZOFFSETTO:+0100
TZNAME:CET
DTSTART:20251026T010000
END:STANDARD
BEGIN:DAYLIGHT
TZOFFSETFROM:+0100
TZOFFSETTO:+0200
TZNAME:CEST
DTSTART:20260329T010000
END:DAYLIGHT
BEGIN:STANDARD
TZOFFSETFROM:+0200
TZOFFSETTO:+0100
TZNAME:CET
DTSTART:20261025T010000
END:STANDARD
END:VTIMEZONE
BEGIN:VEVENT
DTSTART;TZID=Europe/Berlin:20250307T143000
DTEND;TZID=Europe/Berlin:20250308T153000
DTSTAMP:20260421T020601
CREATED:20250121T165245Z
LAST-MODIFIED:20250307T125840Z
UID:87472-1741357800-1741447800@www.sixsigmaclub.de
SUMMARY:OriginPro: Das etablierte Statistik- und Visualisierungstool für Qualitätsverbesserung und Six Sigma Analysen
DESCRIPTION:In diesem Vortrag erfahren Sie\, wie OriginPro als vielseitiges Werkzeug in der Qualitätsverbesserung und in Six Sigma-Analysen eingesetzt wird. Wir zeigen Ihnen die Software live und demonstrieren in Fallstudien den Einsatz von OriginPro für Messsystemanalyse (MSA)\, Statistische Prozesskontrolle (SPC) und Statistische Versuchsplanung (DOE). \nReferenten:\nDr. Ing. Ralf Rosenberger – Origin Produktmanager\, ADDITIVE GmbH\nDipl. Ing. Rita Ditz – Trainer Minitab und Origin\, ADDITIVE GmbH \n_________________________________________________________________________________ \n \n  \n  \nWeitere interessante Termine rund um das Qualitätswesen finden Sie im Terminkalender der QZ-online.de\n_________________________________________________________________________________
URL:https://www.sixsigmaclub.de/event/originpro-das-etablierte-statistik-und-visualisierungstool-fuer-qualitaetsverbesserung-und-six-sigma-analysen/
LOCATION:Online-Vortrag
CATEGORIES:Online-Vortrag
ATTACH;FMTTYPE=image/png:https://www.sixsigmaclub.de/wp-content/uploads/OriProQuality-e1737478693957.png
ORGANIZER;CN="European Six Sigma Club Deutschland e.V.":MAILTO:buero@sixsigmaclub.de
END:VEVENT
BEGIN:VEVENT
DTSTART;TZID=Europe/Berlin:20250313T080000
DTEND;TZID=Europe/Berlin:20250314T170000
DTSTAMP:20260421T020601
CREATED:20241126T194051Z
LAST-MODIFIED:20250113T075834Z
UID:87365-1741852800-1741971600@www.sixsigmaclub.de
SUMMARY:Six Sigma Fachkonferenz 2025
DESCRIPTION:Jetzt anmelden zur ESSC-D Six Sigma Fachkonferenz 2025! \nAm 13. und 14. März 2025 ist es wieder soweit: Im H+ Hotel Frankfurt Airport West (Hofheim‐Diedenbergen) treffen sich Experten\, Praktiker und Innovatoren\, um die Zukunft von Six Sigma zu gestalten. Neben bewährten Themen wagen wir den Blick nach vorne – mit Schwerpunkten wie künstlicher Intelligenz\, Lean Management und Service. \nFreuen Sie sich auf inspirierende Vorträge\, praxisnahe Workshops und jede Menge Raum für Austausch und Networking.\nSeien Sie dabei und erleben Sie die Zukunft der Business Excellence. \nWichtige Informationen im Überblick:\nDatum: 13. und 14. März 2025\nGet togehter: 12. März ab 19:30 Uhr\nOrt: H+ Hotel\, Frankfurt Airport West\, Casteller Straße 106\, 65719 Hofheim‐Diedenbergen \nDas Konferenzprogramm (aktueller Stand) und die Anmeldung als PDF zum Download: KONFERENZPROGRAMM_2025 \nHaben Sie Fragen zur Fachkonferenz oder möchten Sie einen Workshop oder Vortrag zu einem spezifischen Thema bei nächsten Fachkonferenz (2026) halten? Schreiben Sie uns: buero@sixsigmaclub.de \n  \nPartner der Fachkonferenz 2025:\nADDITIVE GmbH \nMit freundlichen Grüßen und bis bald auf der Six Sigma Fachkonferenz 2025!\nDas Organisationsteam der Six Sigma Fachkonferenz \n \n  \n_________________________________________________________________________ \n \n  \n  \nWeitere interessante Termine rund um das Qualitätswesen finden Sie im Terminkalender der QZ-online.de\n__________________________________________________________________________
URL:https://www.sixsigmaclub.de/event/fachkonferenz-2025/
LOCATION:H+ Hotel\, Casteller Straße 106\, Hofheim‐Diedenbergen\, Hessen\, 65719
CATEGORIES:Fachkonferenz
ATTACH;FMTTYPE=image/jpeg:https://www.sixsigmaclub.de/wp-content/uploads/ESSC_Banner_OhneRahmen.jpg
ORGANIZER;CN="European Six Sigma Club Deutschland e.V.":MAILTO:buero@sixsigmaclub.de
END:VEVENT
BEGIN:VEVENT
DTSTART;TZID=Europe/Berlin:20250319T133000
DTEND;TZID=Europe/Berlin:20250319T143000
DTSTAMP:20260421T020601
CREATED:20250224T143259Z
LAST-MODIFIED:20250224T143405Z
UID:87699-1742391000-1742394600@www.sixsigmaclub.de
SUMMARY:Entwicklung eines Sinterprozesses: Ein Anwendungsfall aus der Praxis
DESCRIPTION:Entwicklung eines Sinterprozesses für Leistungsmodule anhand der PERFORM Methode: Ein Anwendungsfall aus der Praxis \nDie PERFORM-Methode ist ein strukturierter Ansatz\, der den gesamten Entwicklungs- und Optimierungsprozess von Produktionssystemen in sieben klar definierten Schritten bündelt. Sie hilft Ingenieuren\, Kundenanforderungen\, Designentscheidungen und Prozessanalysen systematisch zu integrieren\, Risiken zu minimieren und durch gezielte Pilotversuche und Optimierungen Effizienz sowie Qualität nachhaltig zu steigern. \nFür die Elektromobilität bzw. die notwendigen Antriebsumrichter werden Leistungsmodule großflächig auf Kühlkörper gesintert. Mit Hilfe der PERFORM-Methode wurde der Sinterprozess entwickelt und der Umrichter optimiert. \n\nP (Plan)\nE (Engineer)\nR (Recognize)\nF (Formulate\nO (Operate)\nR (Review)\nM (Maximize)\n\n  \nIn dem Online-Vortrag werden das Projekt und das Vorgehen vor- und zur Diskussion gestellt. \nReferent: Dr.-Ing. Aaron Hutzler\, Firma Bondpulse GmbH \n  \n_________________________________________________________________________ \n \n  \nWeitere interessante Termine rund um das Qualitätswesen finden Sie im Terminkalender der QZ-online.de\n__________________________________________________________________________
URL:https://www.sixsigmaclub.de/event/entwicklung-eines-sinterprozesses-ein-anwendungsfall-aus-der-praxis/
LOCATION:Online
CATEGORIES:Online-Vortrag
ATTACH;FMTTYPE=image/png:https://www.sixsigmaclub.de/wp-content/uploads/PerformOnline_Sinterprozess-e1740407639465.png
ORGANIZER;CN="European Six Sigma Club Deutschland e.V.":MAILTO:buero@sixsigmaclub.de
END:VEVENT
END:VCALENDAR