BEGIN:VCALENDAR
VERSION:2.0
PRODID:-//ESSC-D - ECPv6.15.20//NONSGML v1.0//EN
CALSCALE:GREGORIAN
METHOD:PUBLISH
X-WR-CALNAME:ESSC-D
X-ORIGINAL-URL:https://www.sixsigmaclub.de
X-WR-CALDESC:Veranstaltungen für ESSC-D
REFRESH-INTERVAL;VALUE=DURATION:PT1H
X-Robots-Tag:noindex
X-PUBLISHED-TTL:PT1H
BEGIN:VTIMEZONE
TZID:Europe/Berlin
BEGIN:DAYLIGHT
TZOFFSETFROM:+0100
TZOFFSETTO:+0200
TZNAME:CEST
DTSTART:20240331T010000
END:DAYLIGHT
BEGIN:STANDARD
TZOFFSETFROM:+0200
TZOFFSETTO:+0100
TZNAME:CET
DTSTART:20241027T010000
END:STANDARD
BEGIN:DAYLIGHT
TZOFFSETFROM:+0100
TZOFFSETTO:+0200
TZNAME:CEST
DTSTART:20250330T010000
END:DAYLIGHT
BEGIN:STANDARD
TZOFFSETFROM:+0200
TZOFFSETTO:+0100
TZNAME:CET
DTSTART:20251026T010000
END:STANDARD
BEGIN:DAYLIGHT
TZOFFSETFROM:+0100
TZOFFSETTO:+0200
TZNAME:CEST
DTSTART:20260329T010000
END:DAYLIGHT
BEGIN:STANDARD
TZOFFSETFROM:+0200
TZOFFSETTO:+0100
TZNAME:CET
DTSTART:20261025T010000
END:STANDARD
END:VTIMEZONE
BEGIN:VEVENT
DTSTART;TZID=Europe/Berlin:20251007T100000
DTEND;TZID=Europe/Berlin:20251007T110000
DTSTAMP:20260420T151930
CREATED:20250902T152016Z
LAST-MODIFIED:20250902T152322Z
UID:89301-1759831200-1759834800@www.sixsigmaclub.de
SUMMARY:ESSC Data Talk – Oktober
DESCRIPTION:Der ESSC Monthly Data Talk ist die offene Plattform für Vereinsmitglieder\, die sich mit Six Sigma und Statistik beschäftigen. Hier stehen Ihre Fragen und Herausforderungen im Mittelpunkt – sei es eine allgemeine oder spezifische Fragestellung zur statistischen Datenanalyse\, ein Projektthema oder einfach der Wunsch nach Austausch mit Gleichgesinnten. \nUnsere Gastgeberinnen bringen ihre Expertise ein und setzen wertvolle Impulse – doch die Agenda bestimmen Sie! Bringen Sie Ihr Anliegen mit\, profitieren Sie vom kollektiven Fachwissen und finden Sie gemeinsam Lösungen. Offen\, praxisnah und konstruktiv – genau das macht den ESSC Monthly Data Talk aus.\n_______________________________________________________________ \nJetzt dabei sein und Teil der ESSC Data Talk Community werden! \n✔ Nutzen Sie die Gelegenheit\, sich mit Fachkollegen auszutauschen.\n✔ Erhalten Sie wertvolle Einblicke und diskutieren Sie Ihre Fragen direkt mit Experten.\n✔ Die Teilnahme ist kostenfrei und exklusiv für ESSC-Mitglieder.\n✔ Jeden ersten Dienstag im Monat\, 10:00 – 11:00 Uhr – flexibel online teilnehmen und mitdiskutieren!\n✔ Weitere Details finden Sie auf unserer Veranstaltungsseite: LINK\n✔ Jetzt anmelden und Ihren Platz sichern!\n_______________________________________________________________ \nImpulsthemen \nNur für den Fall\, das noch Zeit für Themen übrig sein sollte\, sind folgende Themen als „Diskussionsimpuls“ vorbereitet: \n\n07.10.25 Messsystemanalyse (MSA)\n04.11.25 Prozessfähigkeitsanalyse\n02.12.25 Statistische Versuchsplanung (DoE)\n06.01.26 Statistische Prozesskontrolle (SPC)\n03.02.26 Die richtige Grafik zum richtigen Anlass\n03.03.26 Best Practises in Six Sigma Projekten\n\n_______________________________________________________________ \nSichern Sie sich jetzt Ihren Platz für unseren ESSC Monthly Data Talk! Wir freuen uns auf einen inspirierenden Austausch\, praxisnahe Diskussionen und wertvolle Impulse rund um Six Sigma und Statistik. \n_________________________________________________________________________ \n \n  \n  \nWeitere interessante Termine rund um das Qualitätswesen finden Sie im Terminkalender der QZ-online.de\n__________________________________________________________________________
URL:https://www.sixsigmaclub.de/event/essc-data-talk-oktober/
LOCATION:Online
ATTACH;FMTTYPE=image/webp:https://www.sixsigmaclub.de/wp-content/uploads/ESSC_Data_Talk-e1740078091511.webp
ORGANIZER;CN="European Six Sigma Club Deutschland e.V.":MAILTO:buero@sixsigmaclub.de
END:VEVENT
BEGIN:VEVENT
DTSTART;TZID=Europe/Berlin:20251030T170000
DTEND;TZID=Europe/Berlin:20251030T174500
DTSTAMP:20260420T151930
CREATED:20250924T120135Z
LAST-MODIFIED:20250926T054715Z
UID:89364-1761843600-1761846300@www.sixsigmaclub.de
SUMMARY:Der neue ESSC-D Vorstand stellt sich vor!
DESCRIPTION:Auf der letzten Mitgliederversammlung wurde ein neuer Vorstand gewählt. Wir freuen uns\, euch unsere neue erste Vorsitzende und unseren stellvertretenden Vorsitzenden vorzustellen: \n\nVorsitzende: Lena Thiele\nStellv. Vorsitzender: Hendrik Bienert\n\nDie beiden möchten sich zusammen mit den anderen Vorstandsmitgliedern Björn Noreik\, Prof. Dr. Leyendecker und Achim Schmidt bei euch vorstellen – und natürlich auch hören\, was euch wichtig ist. \nIm Online-Event erfahrt ihr mehr über ihre Ideen und Pläne für die kommende Zeit. Gleichzeitig habt ihr die Gelegenheit\, Fragen zu stellen\, mitzudiskutieren und eure Anregungen einzubringen. \nGanz entspannt\, offen und im Austausch – wir freuen uns auf euch!
URL:https://www.sixsigmaclub.de/event/der-neue-essc-d-vorstand-stellt-sich-vor/
LOCATION:Online
CATEGORIES:Online-Vortrag
ATTACH;FMTTYPE=image/png:https://www.sixsigmaclub.de/wp-content/uploads/ChatGPT-Image-Sep-24-2025-01_55_06-PM.png
ORGANIZER;CN="European Six Sigma Club Deutschland e.V.":MAILTO:buero@sixsigmaclub.de
END:VEVENT
END:VCALENDAR