BEGIN:VCALENDAR
VERSION:2.0
PRODID:-//ESSC-D - ECPv6.15.20//NONSGML v1.0//EN
CALSCALE:GREGORIAN
METHOD:PUBLISH
X-WR-CALNAME:ESSC-D
X-ORIGINAL-URL:https://www.sixsigmaclub.de
X-WR-CALDESC:Veranstaltungen für ESSC-D
REFRESH-INTERVAL;VALUE=DURATION:PT1H
X-Robots-Tag:noindex
X-PUBLISHED-TTL:PT1H
BEGIN:VTIMEZONE
TZID:Europe/Berlin
BEGIN:DAYLIGHT
TZOFFSETFROM:+0100
TZOFFSETTO:+0200
TZNAME:CEST
DTSTART:20250330T010000
END:DAYLIGHT
BEGIN:STANDARD
TZOFFSETFROM:+0200
TZOFFSETTO:+0100
TZNAME:CET
DTSTART:20251026T010000
END:STANDARD
BEGIN:DAYLIGHT
TZOFFSETFROM:+0100
TZOFFSETTO:+0200
TZNAME:CEST
DTSTART:20260329T010000
END:DAYLIGHT
BEGIN:STANDARD
TZOFFSETFROM:+0200
TZOFFSETTO:+0100
TZNAME:CET
DTSTART:20261025T010000
END:STANDARD
BEGIN:DAYLIGHT
TZOFFSETFROM:+0100
TZOFFSETTO:+0200
TZNAME:CEST
DTSTART:20270328T010000
END:DAYLIGHT
BEGIN:STANDARD
TZOFFSETFROM:+0200
TZOFFSETTO:+0100
TZNAME:CET
DTSTART:20271031T010000
END:STANDARD
END:VTIMEZONE
BEGIN:VEVENT
DTSTART;TZID=Europe/Berlin:20260901T100000
DTEND;TZID=Europe/Berlin:20260901T110000
DTSTAMP:20260420T134402
CREATED:20260310T183018Z
LAST-MODIFIED:20260310T183018Z
UID:89741-1788256800-1788260400@www.sixsigmaclub.de
SUMMARY:ESSC Monthly Data Talk – September
DESCRIPTION:Der ESSC Monthly Data Talk ist eine offene Plattform für Vereinsmitglieder\, die sich mit Six Sigma und Statistik beschäftigen. Im Mittelpunkt stehen der fachliche Austausch sowie praktische Fragen rund um statistische Datenanalyse und Verbesserungsprojekte. Jedes Treffen startet mit einem Thema des Tages\, das den Einstieg in die gemeinsame Diskussion bildet. Wenn anschließend noch Zeit bleibt\, können zusätzlich mitgebrachte Fragen oder Themen aus dem Teilnehmerkreis besprochen werden. \nDer Data Talk lebt von der aktiven Beteiligung aller Teilnehmenden: Erfahrungen\, Perspektiven und Fragen werden gemeinsam diskutiert und weiterentwickelt. \nOffen\, praxisnah und konstruktiv – genau das macht den ESSC Monthly Data Talk aus.\n_______________________________________________________________ \nJetzt dabei sein und Teil der ESSC Data Talk Community werden! \n✔ Nutzen Sie die Gelegenheit\, sich mit Fachkollegen auszutauschen.\n✔ Erhalten Sie wertvolle Einblicke und diskutieren Sie Ihre Fragen direkt mit Experten.\n✔ Die Teilnahme ist kostenfrei und exklusiv für ESSC-Mitglieder.\n✔ Jeden ersten Dienstag im Monat\, 10:00 – 11:00 Uhr – flexibel online teilnehmen und mitdiskutieren!\n✔ Weitere Details finden Sie auf unserer Veranstaltungsseite: LINK\n✔ Jetzt anmelden und Ihren Platz sichern!\n_______________________________________________________________ \nImpulsthemen \nNur für den Fall\, das noch Zeit für Themen übrig sein sollte\, sind folgende Themen als „Diskussionsimpuls“ vorbereitet: \n\n07.04.2026 KI-Tools für die Datenanalyse: Möglichkeiten und Grenzen\n05.05.2026 MSA zerstörende Prüfung\n02.06.2026 Produktionsdaten auswerten: Tipps für eine gelungene Datenanalyse\n07.07.2026 Die richtigen Grafiken für die Zielgruppe auswählen\n04.08.2026 Lebensdauer und Zuverlässigkeit: Strategien und Auswertungsmethoden\n01.09.2026 MSA ohne verfügbares Normal – Tipps und Tricks\n06.10.2026 Statistische Versuchsplanung und -auswertung (Design of Experiments\, DoE)\n03.11.2026 Regressionsmodelle Gütekriterien/Überbestimmung\n01.12.2026 Angaben in Kalibrierscheinen / braucht man DAkkS?\n12.01.2027 MSA für komplexe Messaufgaben\n02.02.2027 Wie unangenehme Ergebnisse kommunizieren?\n\n_________________________________________________________________________ \nSichern Sie sich jetzt Ihren Platz für unseren ESSC Monthly Data Talk! Wir freuen uns auf einen inspirierenden Austausch\, praxisnahe Diskussionen und wertvolle Impulse rund um Six Sigma und Statistik. \n_________________________________________________________________________ \n \n  \n  \nWeitere interessante Termine rund um das Qualitätswesen finden Sie im Terminkalender der QZ-online.de\n__________________________________________________________________________
URL:https://www.sixsigmaclub.de/event/essc-monthly-data-talk-september/
LOCATION:Online
CATEGORIES:Monthly Data Talk
ATTACH;FMTTYPE=image/webp:https://www.sixsigmaclub.de/wp-content/uploads/ESSC_Data_Talk-e1740078091511.webp
ORGANIZER;CN="European Six Sigma Club Deutschland e.V.":MAILTO:buero@sixsigmaclub.de
END:VEVENT
BEGIN:VEVENT
DTSTART;VALUE=DATE:20260916
DTEND;VALUE=DATE:20260918
DTSTAMP:20260420T134402
CREATED:20260331T204939Z
LAST-MODIFIED:20260331T205243Z
UID:89781-1789516800-1789689599@www.sixsigmaclub.de
SUMMARY:Six Sigma Fachkonferenz 2026
DESCRIPTION:Der Treffpunkt für Prozessoptimierung\, Qualität und Operational Excellence\nDie Six Sigma Fachkonferenz 2026 ist der zentrale Treffpunkt für Fach- und Führungskräfte\, die Prozessoptimierung\, Qualität und Operational Excellence aktiv gestalten. Treffen Sie die Community\, die Methoden nicht nur diskutiert\, sondern erfolgreich in die Praxis umsetzt.\nAm 16. und 17. September 2026 begrüßen wir Sie in der Voith-Arena in Heidenheim. Ergänzt durch ein exklusives Get-together am Vorabend. Freuen Sie sich auf zwei Tage voller Impulse\, Austausch und konkreter Lösungsansätze für Ihre Organisation. \nJETZT Anmelden: https://www.sixsigmaclub.de/six-sigma-fachkonferenz-2026\n_______________________________________________________________________________________________________ \nEckdaten zur Veranstaltung\n\n 16.–17. September 2026\n Get-togehter am 15. September ab 19:00 Uhr (optional aber sehr zu emfpfehlen)\n Voith-Arena\, Heidenheim\n Nicht-Mitglieder des ESSC: 690.- €. Für Mitglieder des ESSC: 590.- €\n Early Bird bis 15. Mai (–100 €)\n\nJETZT Anmelden: https://www.sixsigmaclub.de/six-sigma-fachkonferenz-2026\n_______________________________________________________________________________________________________\nPartner der Fachkonferenz 2026: \n\nZeiss SMT\nADDITIVE Soft- und Hardware für Technik und Wissenschaft GmbH\n\n\n_______________________________________________________________________________________________________ \nMit freundlichen Grüßen und bis bald auf der Six Sigma Fachkonferenz 2026!\nIhr Organisationsteam der Six Sigma Fachkonferenz \n  \n  \n  \n  \n_______________________________________________________________________________________________________ \n \n  \n  \nWeitere interessante Termine rund um das Qualitätswesen finden Sie im Terminkalender der QZ-online.de
URL:https://www.sixsigmaclub.de/event/six-sigma-fachkonferenz-2026/
LOCATION:Heidenheim
CATEGORIES:Fachkonferenz
ATTACH;FMTTYPE=image/png:https://www.sixsigmaclub.de/wp-content/uploads/ESSC_FaKo2026.png
ORGANIZER;CN="European Six Sigma Club Deutschland e.V.":MAILTO:buero@sixsigmaclub.de
END:VEVENT
BEGIN:VEVENT
DTSTART;VALUE=DATE:20260918
DTEND;VALUE=DATE:20260919
DTSTAMP:20260420T134402
CREATED:20250527T153028Z
LAST-MODIFIED:20260126T085826Z
UID:89072-1789689600-1789775999@www.sixsigmaclub.de
SUMMARY:Modultraining 7: Roll-Outs & Implementierung
DESCRIPTION:Die Teilnehmenden lernen\, wie Verbesserungsprojekte unter realen Rahmenbedingungen effizient geplant\, ausgerollt und verankert werden. Sie stärken ihre Fähigkeit zur Steuerung von Veränderungsprozessen und können strategisch als Multiplikator:innen für Excellence-Methoden wirken. \nKerninhalte dieses Moduls: \n➡ Lean-Prinzipien in der Umsetzung\, inkl. Shopfloor-Management\, Verschwendungsarten und Standardisierung.\n➡ Change-Prozesse wirksam gestalten\, unter Berücksichtigung von Gruppendynamiken und Widerständen.\n➡ Projektportfolios aufbauen und priorisieren\, inklusive sinnvoller Projektauswahl und Erfolgskriterien.\n➡ Agile Methoden kombinieren\, z. B. SCRUM\, Kanban und klassische Six Sigma-Ansätze sinnvoll verzahnen.\n➡ DFSS-Rollout erfolgreich anstoßen\, inklusive Begeisterung im Team und Umgang mit kritischer Masse.\n➡ Integration von Lean Six Sigma in Dienstleistungs- und Produktionsbereiche\, mit Blick auf Praxisbeispiele.\n➡ Time-to-Market-Strategien und Lessons Learned\, um Methoden nachhaltig im Unternehmen zu verankern. \n\n\nTermine (ONLINE)\n11.09.2026 Uhr bis 08:00 Uhr bis 17:00 Uhr\n16.10.2026 Uhr bis 08:00 Uhr bis 17:00 Uhr\nHaben Sie Fragen oder möchten Sie teilnehmen? Wir freuen uns über Ihre Nachricht.\nWerden Sie Teil der Data Excellence Experience – wir freuen uns auf Ihre Teilnahme!\nWeitere Module und Informationen: LINK \n_________________________________________________________________________ \n \n  \n  \nWeitere interessante Termine rund um das Qualitätswesen finden Sie im Terminkalender der QZ-online.de\n__________________________________________________________________________
URL:https://www.sixsigmaclub.de/event/workshop-roll-outs-implementierung/
LOCATION:ESSC-D Workshop / Training
CATEGORIES:ESSC-D Workshop / Training
ATTACH;FMTTYPE=image/png:https://www.sixsigmaclub.de/wp-content/uploads/DEEE_Modul7.png
ORGANIZER;CN="European Six Sigma Club Deutschland e.V.":MAILTO:buero@sixsigmaclub.de
END:VEVENT
END:VCALENDAR