BEGIN:VCALENDAR
VERSION:2.0
PRODID:-//ESSC-D - ECPv6.15.20//NONSGML v1.0//EN
CALSCALE:GREGORIAN
METHOD:PUBLISH
X-WR-CALNAME:ESSC-D
X-ORIGINAL-URL:https://www.sixsigmaclub.de/en/
X-WR-CALDESC:Events for ESSC-D
REFRESH-INTERVAL;VALUE=DURATION:PT1H
X-Robots-Tag:noindex
X-PUBLISHED-TTL:PT1H
BEGIN:VTIMEZONE
TZID:Europe/Berlin
BEGIN:DAYLIGHT
TZOFFSETFROM:+0100
TZOFFSETTO:+0200
TZNAME:CEST
DTSTART:20190331T010000
END:DAYLIGHT
BEGIN:STANDARD
TZOFFSETFROM:+0200
TZOFFSETTO:+0100
TZNAME:CET
DTSTART:20191027T010000
END:STANDARD
BEGIN:DAYLIGHT
TZOFFSETFROM:+0100
TZOFFSETTO:+0200
TZNAME:CEST
DTSTART:20200329T010000
END:DAYLIGHT
BEGIN:STANDARD
TZOFFSETFROM:+0200
TZOFFSETTO:+0100
TZNAME:CET
DTSTART:20201025T010000
END:STANDARD
BEGIN:DAYLIGHT
TZOFFSETFROM:+0100
TZOFFSETTO:+0200
TZNAME:CEST
DTSTART:20210328T010000
END:DAYLIGHT
BEGIN:STANDARD
TZOFFSETFROM:+0200
TZOFFSETTO:+0100
TZNAME:CET
DTSTART:20211031T010000
END:STANDARD
BEGIN:DAYLIGHT
TZOFFSETFROM:+0100
TZOFFSETTO:+0200
TZNAME:CEST
DTSTART:20220327T010000
END:DAYLIGHT
BEGIN:STANDARD
TZOFFSETFROM:+0200
TZOFFSETTO:+0100
TZNAME:CET
DTSTART:20221030T010000
END:STANDARD
END:VTIMEZONE
BEGIN:VEVENT
DTSTART;TZID=Europe/Berlin:20211221T153000
DTEND;TZID=Europe/Berlin:20211221T170000
DTSTAMP:20260423T004119
CREATED:20211004T183446Z
LAST-MODIFIED:20211004T183446Z
UID:88990-1640100600-1640106000@www.sixsigmaclub.de
SUMMARY:“Human Time Management” (guest lecture in English) on 21.12.2021
DESCRIPTION:We all know how crucial it is to prioritize things and plan our time accordingly. The key approaches to this apply regardless of the methods and technology used. The aim of this presentation is to arouse your curiosity and focus your attention on daily habits. “Human Time Management” looks at how we humans function mentally when we plan and prioritize. This results in concrete procedures to create an effective structure and thus use working time as efficiently as possible.     \nThis guest lecture will be held in English by Gudmundur (“Mundi”) Smarason and Anders Rasmussen from Lund in Sweden. Mundi is a freelance consultant in the field of “Human Time Management”. Anders is a lecturer at the University of Lund and conducts research on this topic.
URL:https://www.sixsigmaclub.de/en/event/human-time-management-guest-lecture-in-english-on-21-12-2021/
LOCATION:Online lecture
ORGANIZER;CN="European Six Sigma Club Germany e.V.":MAILTO:buero@sixsigmaclub.de
END:VEVENT
BEGIN:VEVENT
DTSTART;TZID=Europe/Berlin:20211122T083000
DTEND;TZID=Europe/Berlin:20211124T170000
DTSTAMP:20260423T004119
CREATED:20211004T193908Z
LAST-MODIFIED:20250526T152154Z
UID:88940-1637569800-1637773200@www.sixsigmaclub.de
SUMMARY:ESSC-D Data Mining Workshop for Six Sigma Belts and Methodology Experts
DESCRIPTION:This basic workshop offers the ideal opportunity to delve into the topics of data mining together and to experience\, compare and apply selected methods directly with the software packages Minitab®\, KNIME® and the programming language R. The workshop teaches basic concepts and methods for the structured analysis of complex data. As a result\, you will be able to plan and carry out your own analyses of complex data.   \nFurther details: 2021_02_ESSC_Data_Mining_Basic_workshop \nSpeaker:\nProf. Dr. Maik Kschischo\, Koblenz University of Applied Sciences\, Björn Noreik\, BNB Quality Statistics and Training
URL:https://www.sixsigmaclub.de/en/event/essc-d-data-mining-workshop-for-six-sigma-belts-and-methodology-experts/
CATEGORIES:ESSC-D Workshop / Training
END:VEVENT
BEGIN:VEVENT
DTSTART;TZID=Europe/Berlin:20211105T150000
DTEND;TZID=Europe/Berlin:20211105T170000
DTSTAMP:20260423T004119
CREATED:20211004T191137Z
LAST-MODIFIED:20250526T152157Z
UID:88938-1636124400-1636131600@www.sixsigmaclub.de
SUMMARY:Data-based value stream mapping
DESCRIPTION:Data-based value stream mapping \nCompanies collect a lot of data about their processes along the entire value chain from supply chain\, production and logistics to customers. However\, there is still a lack of a “big picture”\, an overview of all processes to identify problems\, waste and potential at an early stage and\, above all\, to understand interrelationships.\nWhat if we were able to create an automatic value stream analysis from the existing company data at the touch of a button\, within a few minutes and without a great deal of effort? What challenges does the desire for a “big picture” entail and what could a solution look like?\nSpeaker: M.Eng. Mauritius Geiger\, Managing Director fLUMINA GmbH\, Constance  \nSpeaker: Mauritius Geiger\, fLUMINA GmbH
URL:https://www.sixsigmaclub.de/en/event/data-based-value-stream-mapping/
LOCATION:Online lecture
CATEGORIES:Online lecture
END:VEVENT
BEGIN:VEVENT
DTSTART;TZID=Europe/Berlin:20211015T150000
DTEND;TZID=Europe/Berlin:20211015T160000
DTSTAMP:20260423T004119
CREATED:20211004T185615Z
LAST-MODIFIED:20211004T185615Z
UID:88982-1634310000-1634313600@www.sixsigmaclub.de
SUMMARY:News from the world of Minitab for Six Sigma projects
DESCRIPTION:News from the Minitab world for Six Sigma projects – Presentation & classification of the latest features (from version 20) \nSpeaker: Daniel Fügner\, Additive Soft- und Hardware für Technik und Wissenschaft GmbH
URL:https://www.sixsigmaclub.de/en/event/news-from-the-world-of-minitab-for-six-sigma-projects/
LOCATION:Online lecture
CATEGORIES:Online lecture
ORGANIZER;CN="European Six Sigma Club Germany e.V.":MAILTO:buero@sixsigmaclub.de
END:VEVENT
BEGIN:VEVENT
DTSTART;TZID=Europe/Berlin:20210701T150000
DTEND;TZID=Europe/Berlin:20210701T163000
DTSTAMP:20260423T004119
CREATED:20211004T192257Z
LAST-MODIFIED:20211004T192257Z
UID:88937-1625151600-1625157000@www.sixsigmaclub.de
SUMMARY:Opportunities for digitalization in the pandemic? Now more than ever or carry on as before?
DESCRIPTION:Interactive lecture on the impact of the pandemic on digitalization \nBrief description:\nEveryone is talking about digitalization. Sometimes it is used in very concrete terms\, but unfortunately it is also often used as an empty phrase. Together with you\, we want to take a contemporary look at the concept of digitalization. In doing so\, we want to address the changed data situation and discuss with you the benefits of digitalization for your company and whether or not digitalization initiatives have been accelerated by the pandemic.    \nSpeaker:\nDr. Gerhard Kurz\, Qioptiq Photonics GmbH & Co. KG\, Thomas Rittler\, Festo SE & Co.KG
URL:https://www.sixsigmaclub.de/en/event/opportunities-for-digitalization-in-the-pandemic-now-more-than-ever-or-carry-on-as-before/
LOCATION:Online lecture
CATEGORIES:Online lecture
END:VEVENT
BEGIN:VEVENT
DTSTART;TZID=Europe/Berlin:20210505T150000
DTEND;TZID=Europe/Berlin:20210505T160000
DTSTAMP:20260423T004119
CREATED:20211004T192132Z
LAST-MODIFIED:20211004T192132Z
UID:88941-1620226800-1620230400@www.sixsigmaclub.de
SUMMARY:Six Sigma has been successful for over 30 years! Why change anything now?
DESCRIPTION:Digitalization\, working from home and agility are massively changing our work processes. Time for a paradigm shift in process improvement?  \nBrief description:\nAdmittedly\, nobody likes to question their own success model. Over the course of time\, many “best practices” for the Six Sigma approach have emerged\, which were correct at the time with the technical possibilities and framework conditions. But are they still correct today? Time to take a critical look at some of the Six Sigma paradigms!    \nSpeaker:\nErik Schwulera\, Six Sigma Program Manager\, Siemens AG\, Digital Industries
URL:https://www.sixsigmaclub.de/en/event/six-sigma-has-been-successful-for-over-30-years-why-change-anything-now/
LOCATION:Online lecture
CATEGORIES:Online lecture
ORGANIZER;CN="European Six Sigma Club Germany e.V.":MAILTO:buero@sixsigmaclub.de
END:VEVENT
BEGIN:VEVENT
DTSTART;TZID=Europe/Berlin:20210415T160000
DTEND;TZID=Europe/Berlin:20210415T170000
DTSTAMP:20260423T004119
CREATED:20211004T192405Z
LAST-MODIFIED:20211004T192405Z
UID:88943-1618502400-1618506000@www.sixsigmaclub.de
SUMMARY:What to do if it takes too long again?
DESCRIPTION:Brief description:\nThe duration of DMAIC improvement projects is often considered too long. In this paper we will present best practices and also new innovative approaches to accelerate projects based on the current situation.  \nSpeaker:\nHendrik Bienert\, Amazon Fulfillment\nDr. Thomas Rietdorf\, Vodafone GmbH
URL:https://www.sixsigmaclub.de/en/event/what-to-do-if-it-takes-too-long-again/
LOCATION:Online lecture
CATEGORIES:Online lecture
ORGANIZER;CN="European Six Sigma Club Germany e.V.":MAILTO:buero@sixsigmaclub.de
END:VEVENT
BEGIN:VEVENT
DTSTART;TZID=Europe/Berlin:20210312T140000
DTEND;TZID=Europe/Berlin:20210312T150000
DTSTAMP:20260423T004119
CREATED:20211004T192524Z
LAST-MODIFIED:20211004T192524Z
UID:88947-1615557600-1615561200@www.sixsigmaclub.de
SUMMARY:Artificial intelligence in production - method overview\, real applications and outlook
DESCRIPTION:Brief description:\nThe great potential of artificial intelligence for production is being touted in many places. With our presentation\, we would like to sort out the jungle of buzzwords surrounding AI and provide an introduction to relevant terms and methods. Using practical examples from the manufacturing industry\, current applications will be presented to inspire people to “copy” them.   \nSpeaker:\nFranziska Schäfer and Jupiter Bakakeu\, both from the Friedrich-Alexander University Erlangen-Nuremberg\, Chair of Manufacturing Automation and Production Systems (FAPS)
URL:https://www.sixsigmaclub.de/en/event/artificial-intelligence-in-production-method-overview-real-applications-and-outlook/
LOCATION:Online lecture
CATEGORIES:Online lecture
ORGANIZER;CN="European Six Sigma Club Germany e.V.":MAILTO:buero@sixsigmaclub.de
END:VEVENT
BEGIN:VEVENT
DTSTART;TZID=Europe/Berlin:20201123T080000
DTEND;TZID=Europe/Berlin:20210212T170000
DTSTAMP:20260423T004119
CREATED:20211004T192815Z
LAST-MODIFIED:20211004T192815Z
UID:88948-1606118400-1613149200@www.sixsigmaclub.de
SUMMARY:ESSC-D Advanced Statistics Workshop
DESCRIPTION:Understanding statistics\, expanding tools\, successful training\nBlock 1 (Online) – 23.11.20 and 24.11.20 as well as 26.11.20 and 27.11.20\nSoftskill day (presence preferred) – 4.12.20 or 10.12.20 or 11.12.10\nBlock 2 (presence preferred) – 3.2.21 to 5.2.21 or 10.2.21 to 12.2.21 \nLink to further information: 2020_11_ESSC_Six Sigma-Advanced_Statistics_Workshop
URL:https://www.sixsigmaclub.de/en/event/essc-d-advanced-statistics-workshop/
LOCATION:ESSC-D Workshop / Training
ORGANIZER;CN="European Six Sigma Club Germany e.V.":MAILTO:buero@sixsigmaclub.de
END:VEVENT
END:VCALENDAR