BEGIN:VCALENDAR
VERSION:2.0
PRODID:-//ESSC-D - ECPv6.15.20//NONSGML v1.0//EN
CALSCALE:GREGORIAN
METHOD:PUBLISH
X-WR-CALNAME:ESSC-D
X-ORIGINAL-URL:https://www.sixsigmaclub.de/en/
X-WR-CALDESC:Events for ESSC-D
REFRESH-INTERVAL;VALUE=DURATION:PT1H
X-Robots-Tag:noindex
X-PUBLISHED-TTL:PT1H
BEGIN:VTIMEZONE
TZID:Europe/Berlin
BEGIN:DAYLIGHT
TZOFFSETFROM:+0100
TZOFFSETTO:+0200
TZNAME:CEST
DTSTART:20190331T010000
END:DAYLIGHT
BEGIN:STANDARD
TZOFFSETFROM:+0200
TZOFFSETTO:+0100
TZNAME:CET
DTSTART:20191027T010000
END:STANDARD
BEGIN:DAYLIGHT
TZOFFSETFROM:+0100
TZOFFSETTO:+0200
TZNAME:CEST
DTSTART:20200329T010000
END:DAYLIGHT
BEGIN:STANDARD
TZOFFSETFROM:+0200
TZOFFSETTO:+0100
TZNAME:CET
DTSTART:20201025T010000
END:STANDARD
BEGIN:DAYLIGHT
TZOFFSETFROM:+0100
TZOFFSETTO:+0200
TZNAME:CEST
DTSTART:20210328T010000
END:DAYLIGHT
BEGIN:STANDARD
TZOFFSETFROM:+0200
TZOFFSETTO:+0100
TZNAME:CET
DTSTART:20211031T010000
END:STANDARD
BEGIN:DAYLIGHT
TZOFFSETFROM:+0100
TZOFFSETTO:+0200
TZNAME:CEST
DTSTART:20220327T010000
END:DAYLIGHT
BEGIN:STANDARD
TZOFFSETFROM:+0200
TZOFFSETTO:+0100
TZNAME:CET
DTSTART:20221030T010000
END:STANDARD
END:VTIMEZONE
BEGIN:VEVENT
DTSTART;TZID=Europe/Berlin:20201123T080000
DTEND;TZID=Europe/Berlin:20210212T170000
DTSTAMP:20260423T174308
CREATED:20211004T192815Z
LAST-MODIFIED:20211004T192815Z
UID:88948-1606118400-1613149200@www.sixsigmaclub.de
SUMMARY:ESSC-D Advanced Statistics Workshop
DESCRIPTION:Understanding statistics\, expanding tools\, successful training\nBlock 1 (Online) – 23.11.20 and 24.11.20 as well as 26.11.20 and 27.11.20\nSoftskill day (presence preferred) – 4.12.20 or 10.12.20 or 11.12.10\nBlock 2 (presence preferred) – 3.2.21 to 5.2.21 or 10.2.21 to 12.2.21 \nLink to further information: 2020_11_ESSC_Six Sigma-Advanced_Statistics_Workshop
URL:https://www.sixsigmaclub.de/en/event/essc-d-advanced-statistics-workshop/
LOCATION:ESSC-D Workshop / Training
ORGANIZER;CN="European Six Sigma Club Germany e.V.":MAILTO:buero@sixsigmaclub.de
END:VEVENT
END:VCALENDAR