BEGIN:VCALENDAR
VERSION:2.0
PRODID:-//ESSC-D - ECPv6.15.20//NONSGML v1.0//EN
CALSCALE:GREGORIAN
METHOD:PUBLISH
X-ORIGINAL-URL:https://www.sixsigmaclub.de/en/
X-WR-CALDESC:Events for ESSC-D
REFRESH-INTERVAL;VALUE=DURATION:PT1H
X-Robots-Tag:noindex
X-PUBLISHED-TTL:PT1H
BEGIN:VTIMEZONE
TZID:Europe/Berlin
BEGIN:DAYLIGHT
TZOFFSETFROM:+0100
TZOFFSETTO:+0200
TZNAME:CEST
DTSTART:20200329T010000
END:DAYLIGHT
BEGIN:STANDARD
TZOFFSETFROM:+0200
TZOFFSETTO:+0100
TZNAME:CET
DTSTART:20201025T010000
END:STANDARD
BEGIN:DAYLIGHT
TZOFFSETFROM:+0100
TZOFFSETTO:+0200
TZNAME:CEST
DTSTART:20210328T010000
END:DAYLIGHT
BEGIN:STANDARD
TZOFFSETFROM:+0200
TZOFFSETTO:+0100
TZNAME:CET
DTSTART:20211031T010000
END:STANDARD
BEGIN:DAYLIGHT
TZOFFSETFROM:+0100
TZOFFSETTO:+0200
TZNAME:CEST
DTSTART:20220327T010000
END:DAYLIGHT
BEGIN:STANDARD
TZOFFSETFROM:+0200
TZOFFSETTO:+0100
TZNAME:CET
DTSTART:20221030T010000
END:STANDARD
END:VTIMEZONE
BEGIN:VEVENT
DTSTART;TZID=Europe/Berlin:20210312T140000
DTEND;TZID=Europe/Berlin:20210312T150000
DTSTAMP:20260423T140419
CREATED:20211004T192524Z
LAST-MODIFIED:20211004T192524Z
UID:88947-1615557600-1615561200@www.sixsigmaclub.de
SUMMARY:Artificial intelligence in production - method overview\, real applications and outlook
DESCRIPTION:Brief description:\nThe great potential of artificial intelligence for production is being touted in many places. With our presentation\, we would like to sort out the jungle of buzzwords surrounding AI and provide an introduction to relevant terms and methods. Using practical examples from the manufacturing industry\, current applications will be presented to inspire people to “copy” them.   \nSpeaker:\nFranziska Schäfer and Jupiter Bakakeu\, both from the Friedrich-Alexander University Erlangen-Nuremberg\, Chair of Manufacturing Automation and Production Systems (FAPS)
URL:https://www.sixsigmaclub.de/en/event/artificial-intelligence-in-production-method-overview-real-applications-and-outlook/
LOCATION:Online lecture
CATEGORIES:Online lecture
ORGANIZER;CN="European Six Sigma Club Germany e.V.":MAILTO:buero@sixsigmaclub.de
END:VEVENT
END:VCALENDAR