BEGIN:VCALENDAR
VERSION:2.0
PRODID:-//ESSC-D - ECPv6.15.20//NONSGML v1.0//EN
CALSCALE:GREGORIAN
METHOD:PUBLISH
X-WR-CALNAME:ESSC-D
X-ORIGINAL-URL:https://www.sixsigmaclub.de/en/
X-WR-CALDESC:Events for ESSC-D
REFRESH-INTERVAL;VALUE=DURATION:PT1H
X-Robots-Tag:noindex
X-PUBLISHED-TTL:PT1H
BEGIN:VTIMEZONE
TZID:Europe/Berlin
BEGIN:DAYLIGHT
TZOFFSETFROM:+0100
TZOFFSETTO:+0200
TZNAME:CEST
DTSTART:20200329T010000
END:DAYLIGHT
BEGIN:STANDARD
TZOFFSETFROM:+0200
TZOFFSETTO:+0100
TZNAME:CET
DTSTART:20201025T010000
END:STANDARD
BEGIN:DAYLIGHT
TZOFFSETFROM:+0100
TZOFFSETTO:+0200
TZNAME:CEST
DTSTART:20210328T010000
END:DAYLIGHT
BEGIN:STANDARD
TZOFFSETFROM:+0200
TZOFFSETTO:+0100
TZNAME:CET
DTSTART:20211031T010000
END:STANDARD
BEGIN:DAYLIGHT
TZOFFSETFROM:+0100
TZOFFSETTO:+0200
TZNAME:CEST
DTSTART:20220327T010000
END:DAYLIGHT
BEGIN:STANDARD
TZOFFSETFROM:+0200
TZOFFSETTO:+0100
TZNAME:CET
DTSTART:20221030T010000
END:STANDARD
END:VTIMEZONE
BEGIN:VEVENT
DTSTART;TZID=Europe/Berlin:20211105T150000
DTEND;TZID=Europe/Berlin:20211105T170000
DTSTAMP:20260423T003417
CREATED:20211004T191137Z
LAST-MODIFIED:20250526T152157Z
UID:88938-1636124400-1636131600@www.sixsigmaclub.de
SUMMARY:Data-based value stream mapping
DESCRIPTION:Data-based value stream mapping \nCompanies collect a lot of data about their processes along the entire value chain from supply chain\, production and logistics to customers. However\, there is still a lack of a “big picture”\, an overview of all processes to identify problems\, waste and potential at an early stage and\, above all\, to understand interrelationships.\nWhat if we were able to create an automatic value stream analysis from the existing company data at the touch of a button\, within a few minutes and without a great deal of effort? What challenges does the desire for a “big picture” entail and what could a solution look like?\nSpeaker: M.Eng. Mauritius Geiger\, Managing Director fLUMINA GmbH\, Constance  \nSpeaker: Mauritius Geiger\, fLUMINA GmbH
URL:https://www.sixsigmaclub.de/en/event/data-based-value-stream-mapping/
LOCATION:Online lecture
CATEGORIES:Online lecture
END:VEVENT
BEGIN:VEVENT
DTSTART;TZID=Europe/Berlin:20211122T083000
DTEND;TZID=Europe/Berlin:20211124T170000
DTSTAMP:20260423T003417
CREATED:20211004T193908Z
LAST-MODIFIED:20250526T152154Z
UID:88940-1637569800-1637773200@www.sixsigmaclub.de
SUMMARY:ESSC-D Data Mining Workshop for Six Sigma Belts and Methodology Experts
DESCRIPTION:This basic workshop offers the ideal opportunity to delve into the topics of data mining together and to experience\, compare and apply selected methods directly with the software packages Minitab®\, KNIME® and the programming language R. The workshop teaches basic concepts and methods for the structured analysis of complex data. As a result\, you will be able to plan and carry out your own analyses of complex data.   \nFurther details: 2021_02_ESSC_Data_Mining_Basic_workshop \nSpeaker:\nProf. Dr. Maik Kschischo\, Koblenz University of Applied Sciences\, Björn Noreik\, BNB Quality Statistics and Training
URL:https://www.sixsigmaclub.de/en/event/essc-d-data-mining-workshop-for-six-sigma-belts-and-methodology-experts/
CATEGORIES:ESSC-D Workshop / Training
END:VEVENT
END:VCALENDAR