BEGIN:VCALENDAR
VERSION:2.0
PRODID:-//ESSC-D - ECPv6.15.20//NONSGML v1.0//EN
CALSCALE:GREGORIAN
METHOD:PUBLISH
X-WR-CALNAME:ESSC-D
X-ORIGINAL-URL:https://www.sixsigmaclub.de/en/
X-WR-CALDESC:Events for ESSC-D
REFRESH-INTERVAL;VALUE=DURATION:PT1H
X-Robots-Tag:noindex
X-PUBLISHED-TTL:PT1H
BEGIN:VTIMEZONE
TZID:Europe/Berlin
BEGIN:DAYLIGHT
TZOFFSETFROM:+0100
TZOFFSETTO:+0200
TZNAME:CEST
DTSTART:20210328T010000
END:DAYLIGHT
BEGIN:STANDARD
TZOFFSETFROM:+0200
TZOFFSETTO:+0100
TZNAME:CET
DTSTART:20211031T010000
END:STANDARD
BEGIN:DAYLIGHT
TZOFFSETFROM:+0100
TZOFFSETTO:+0200
TZNAME:CEST
DTSTART:20220327T010000
END:DAYLIGHT
BEGIN:STANDARD
TZOFFSETFROM:+0200
TZOFFSETTO:+0100
TZNAME:CET
DTSTART:20221030T010000
END:STANDARD
BEGIN:DAYLIGHT
TZOFFSETFROM:+0100
TZOFFSETTO:+0200
TZNAME:CEST
DTSTART:20230326T010000
END:DAYLIGHT
BEGIN:STANDARD
TZOFFSETFROM:+0200
TZOFFSETTO:+0100
TZNAME:CET
DTSTART:20231029T010000
END:STANDARD
END:VTIMEZONE
BEGIN:VEVENT
DTSTART;VALUE=DATE:20220929
DTEND;VALUE=DATE:20221001
DTSTAMP:20260422T080737
CREATED:20220217T140303Z
LAST-MODIFIED:20220217T140303Z
UID:88963-1664409600-1664582399@www.sixsigmaclub.de
SUMMARY:Automated data analysis with RStudio
DESCRIPTION:The flood of data is constantly increasing in day-to-day business. Data records need to be processed quickly\, visualized and searched for anomalies in order to derive suitable measures. This often involves new data records with the same structures every day.    In situations like these\, scripts are used for data preparation and data analysis. This allows standard tasks to be completed quickly\, conveniently and\, above all\, error-free. The insights gained in the process also often need to be summarized in reports. Instead of generating these reports with “copy and paste”\, they can be made available “by script” or even fully automated. This not only saves working time and avoids errors. It also opens up new possibilities for process monitoring and control.      \nTarget group: You will benefit most from this basic workshop if you have a lot to do with data and data analysis in your day-to-day business. Basic statistical knowledge as taught in Greenbelt or Blackbelt courses\, or experience with scripting languages\, Excel or Minitab macros is not required\, but will likely accelerate your learning curve after this course.  \nAim/benefit: This basic workshop offers you assistance and security for your first steps with RStudio. At the end of the course you will be able to understand and customize existing scripts for spreadsheets\, graphs and analysis. You will be able to use scripting solutions from this course or from relevant sites on the internet. In this course you will receive scripts and data sets and experience “live” some of the many possibilities when using RStudio.    \nLink to the course description and registration information \nTeilnahmegebühr: Mitglieder: 950\,- €. Nichtmitglieder: 1250\,- €. Mehrwertsteuerfrei.\n\nAktuell gehen wir gehen davon aus\, dass diese Schulung „virtuell“ stattfinden wird. Falls möglich und von der Mehrzahl der Teilnehmer(inn)en gewünscht\, findet sie als Präsenzveranstaltung statt.\nWerden Sie Mitglied im ESSC und profitieren Sie dem günstigeren Angebot!\nSie möchten Sich anmelden oder haben Fragen zum Kurs? Einfach E-Mail an buero@sixsigmaclub.de\n 
URL:https://www.sixsigmaclub.de/en/event/automated-data-analysis-with-rstudio/
LOCATION:ESSC-D Workshop / Training
ORGANIZER;CN="European Six Sigma Club Germany e.V.":MAILTO:buero@sixsigmaclub.de
END:VEVENT
END:VCALENDAR