BEGIN:VCALENDAR
VERSION:2.0
PRODID:-//ESSC-D - ECPv6.15.20//NONSGML v1.0//EN
CALSCALE:GREGORIAN
METHOD:PUBLISH
X-WR-CALNAME:ESSC-D
X-ORIGINAL-URL:https://www.sixsigmaclub.de/en/
X-WR-CALDESC:Events for ESSC-D
REFRESH-INTERVAL;VALUE=DURATION:PT1H
X-Robots-Tag:noindex
X-PUBLISHED-TTL:PT1H
BEGIN:VTIMEZONE
TZID:Europe/Berlin
BEGIN:DAYLIGHT
TZOFFSETFROM:+0100
TZOFFSETTO:+0200
TZNAME:CEST
DTSTART:20210328T010000
END:DAYLIGHT
BEGIN:STANDARD
TZOFFSETFROM:+0200
TZOFFSETTO:+0100
TZNAME:CET
DTSTART:20211031T010000
END:STANDARD
BEGIN:DAYLIGHT
TZOFFSETFROM:+0100
TZOFFSETTO:+0200
TZNAME:CEST
DTSTART:20220327T010000
END:DAYLIGHT
BEGIN:STANDARD
TZOFFSETFROM:+0200
TZOFFSETTO:+0100
TZNAME:CET
DTSTART:20221030T010000
END:STANDARD
BEGIN:DAYLIGHT
TZOFFSETFROM:+0100
TZOFFSETTO:+0200
TZNAME:CEST
DTSTART:20230326T010000
END:DAYLIGHT
BEGIN:STANDARD
TZOFFSETFROM:+0200
TZOFFSETTO:+0100
TZNAME:CET
DTSTART:20231029T010000
END:STANDARD
END:VTIMEZONE
BEGIN:VEVENT
DTSTART;VALUE=DATE:20221130
DTEND;VALUE=DATE:20221203
DTSTAMP:20260422T032459
CREATED:20220303T114351Z
LAST-MODIFIED:20220303T114351Z
UID:88985-1669766400-1670025599@www.sixsigmaclub.de
SUMMARY:ONLINE - Data mining basics workshop for Six Sigma belts and method experts
DESCRIPTION:Introduction to applications of modern data mining methods and tools \nONLINE – 30.11.- 02.12.2022\, from 08:30 to 17:00 – ONLINE\nThe number of participants is limited – There are still places available \nSpeakers:\nProf. Dr. Maik Kschischo\, Koblenz University of Applied Sciences\nBjörn Noreik\, BNB Quality Statistics and Training \nCourse description: This basic workshop offers the ideal opportunity to dive into the topics of data mining (DM) and machine learning (ML). \nThe focus is on the insight and application of selected methods for data analysis. Practical case studies will be used during the workshop\, which we will analyze together and in group exercises using various software packages.  \nYou will get to know the basic data mining methods and experience the software packages Minitab®\, KNIME® and the programming language R in direct comparison. The workshop teaches basic concepts and methods for the structured analysis of complex data.  \nThe number of participants is limited. It’s best to register now!  \nNote: The installation of the above-mentioned packages is optional. Participants are also invited to watch the analyses and actively contribute their thoughts. However\, if you would like to gain some experience in using the various software packages\, you should install them before the workshop.   \nAgenda_ESSC_DM_Basic_workshop2022 \nImportant key points: \n\nYou are welcome to register via the website or by e-mail essc@sixsigmaclub.de \nBinding registrations are requested up to 3 weeks before the respective workshop date\nPrice for all three days: € 1950 (for ESSC-D members: € 1650).\nConference fee (face-to-face event)\nincl. refreshments and lunch\nincl. electronic documents(*\nIf you switch to online\, the fee is reduced by € 150.  \n\nWe look forward to seeing you!
URL:https://www.sixsigmaclub.de/en/event/online-data-mining-basics-workshop-for-six-sigma-belts-and-method-experts/
LOCATION:Bad Nauheim
CATEGORIES:ESSC-D Workshop / Training
ORGANIZER;CN="European Six Sigma Club Germany e.V.":MAILTO:buero@sixsigmaclub.de
END:VEVENT
END:VCALENDAR