BEGIN:VCALENDAR
VERSION:2.0
PRODID:-//ESSC-D - ECPv6.15.20//NONSGML v1.0//EN
CALSCALE:GREGORIAN
METHOD:PUBLISH
X-ORIGINAL-URL:https://www.sixsigmaclub.de/en/
X-WR-CALDESC:Events for ESSC-D
REFRESH-INTERVAL;VALUE=DURATION:PT1H
X-Robots-Tag:noindex
X-PUBLISHED-TTL:PT1H
BEGIN:VTIMEZONE
TZID:Europe/Berlin
BEGIN:DAYLIGHT
TZOFFSETFROM:+0100
TZOFFSETTO:+0200
TZNAME:CEST
DTSTART:20220327T010000
END:DAYLIGHT
BEGIN:STANDARD
TZOFFSETFROM:+0200
TZOFFSETTO:+0100
TZNAME:CET
DTSTART:20221030T010000
END:STANDARD
BEGIN:DAYLIGHT
TZOFFSETFROM:+0100
TZOFFSETTO:+0200
TZNAME:CEST
DTSTART:20230326T010000
END:DAYLIGHT
BEGIN:STANDARD
TZOFFSETFROM:+0200
TZOFFSETTO:+0100
TZNAME:CET
DTSTART:20231029T010000
END:STANDARD
BEGIN:DAYLIGHT
TZOFFSETFROM:+0100
TZOFFSETTO:+0200
TZNAME:CEST
DTSTART:20240331T010000
END:DAYLIGHT
BEGIN:STANDARD
TZOFFSETFROM:+0200
TZOFFSETTO:+0100
TZNAME:CET
DTSTART:20241027T010000
END:STANDARD
END:VTIMEZONE
BEGIN:VEVENT
DTSTART;TZID=Europe/Berlin:20230120T153000
DTEND;TZID=Europe/Berlin:20230120T163000
DTSTAMP:20260422T020105
CREATED:20221201T143423Z
LAST-MODIFIED:20221201T143423Z
UID:88955-1674228600-1674232200@www.sixsigmaclub.de
SUMMARY:Online event: From crisis to strength - techniques for more confidence and self-efficacy
DESCRIPTION:Just as the coronavirus pandemic seems to be becoming part of our normal everyday lives\, the world is confronting us with other crises: ongoing supply chain problems\, high inflation\, rising energy prices… and the list goes on. How can we not bury our heads in the sand in the face of these challenges? How do we manage not to lose heart and hope in the face of so many crises?   \nIn this lecture\, Lisa Morgner explains the reactions and dynamics that can arise when we are confronted with the problems of our time. She shows simple ways of dealing with them and how you can activate your personal powers of resistance – both privately and in your company.
URL:https://www.sixsigmaclub.de/en/event/online-event-from-crisis-to-strength-techniques-for-more-confidence-and-self-efficacy/
LOCATION:Online lecture
CATEGORIES:Online lecture
ORGANIZER;CN="European Six Sigma Club Germany e.V.":MAILTO:buero@sixsigmaclub.de
END:VEVENT
END:VCALENDAR