BEGIN:VCALENDAR
VERSION:2.0
PRODID:-//ESSC-D - ECPv6.15.20//NONSGML v1.0//EN
CALSCALE:GREGORIAN
METHOD:PUBLISH
X-ORIGINAL-URL:https://www.sixsigmaclub.de/en/
X-WR-CALDESC:Events for ESSC-D
REFRESH-INTERVAL;VALUE=DURATION:PT1H
X-Robots-Tag:noindex
X-PUBLISHED-TTL:PT1H
BEGIN:VTIMEZONE
TZID:Europe/Berlin
BEGIN:DAYLIGHT
TZOFFSETFROM:+0100
TZOFFSETTO:+0200
TZNAME:CEST
DTSTART:20220327T010000
END:DAYLIGHT
BEGIN:STANDARD
TZOFFSETFROM:+0200
TZOFFSETTO:+0100
TZNAME:CET
DTSTART:20221030T010000
END:STANDARD
BEGIN:DAYLIGHT
TZOFFSETFROM:+0100
TZOFFSETTO:+0200
TZNAME:CEST
DTSTART:20230326T010000
END:DAYLIGHT
BEGIN:STANDARD
TZOFFSETFROM:+0200
TZOFFSETTO:+0100
TZNAME:CET
DTSTART:20231029T010000
END:STANDARD
BEGIN:DAYLIGHT
TZOFFSETFROM:+0100
TZOFFSETTO:+0200
TZNAME:CEST
DTSTART:20240331T010000
END:DAYLIGHT
BEGIN:STANDARD
TZOFFSETFROM:+0200
TZOFFSETTO:+0100
TZNAME:CET
DTSTART:20241027T010000
END:STANDARD
END:VTIMEZONE
BEGIN:VEVENT
DTSTART;TZID=Europe/Berlin:20230915T150000
DTEND;TZID=Europe/Berlin:20230915T163000
DTSTAMP:20260421T125636
CREATED:20230413T074758Z
LAST-MODIFIED:20230413T074758Z
UID:88959-1694790000-1694795400@www.sixsigmaclub.de
SUMMARY:How do I use Chat GPT for my work with data and for data analysis? - A field report
DESCRIPTION:Dr. Michael Ohler reports on his practical experience with AI\, which is now on everyone’s lips. \n“Because I really do have the thing open every day. I prefer to have” real code “written or corrected. Allow me to make the following assertion: After 1-3 days of training\, anyone can use ChatGPT to apply GB knowledge to statistics. … Only statistics\, not stakeholder management\, not process knowledge\, … But still: statistics.” (Michael Ohler) \n  \n_________________________________________________________________________________ \n \n  \n  \nYou can find other interesting dates relating to quality management in the QZ-online.de diary\n_________________________________________________________________________________
URL:https://www.sixsigmaclub.de/en/event/how-do-i-use-chat-gpt-for-my-work-with-data-and-for-data-analysis-a-field-report/
END:VEVENT
BEGIN:VEVENT
DTSTART;TZID=Europe/Berlin:20230922T150000
DTEND;TZID=Europe/Berlin:20230922T160000
DTSTAMP:20260421T125636
CREATED:20230804T063718Z
LAST-MODIFIED:20230804T063718Z
UID:88933-1695394800-1695398400@www.sixsigmaclub.de
SUMMARY:Is my project suitable for participation in the German Six Sigma Award for Business Excellence?
DESCRIPTION:Every year\, the European Six Sigma Club Deutschland e.V. (ESSC-D) awards prizes for the best work and achievements in the field of Six Sigma methodology and business excellence.\nThe German Six Sigma Prize (DSSP) for Business Excellence is a recognition for project managers and their teams. Students who have worked on an optimization project during their studies can also submit entries. We invite interested parties from industry\, research and teaching to submit their work on the topics of   \n1. Six Sigma and Lean Management\n2. Agile Management\n3. Process Management\nor 4. Digitalization and Industrial Transformation. \nThis online presentation will focus in particular on presenting and discussing the framework conditions\, possibilities and opportunities of participating in the DSSP for Business Excellence. Example projects will also be briefly presented.  \nSpeaker:\nProf. Dr.-Ing. Patrick Pötters\nProfessorship for Production\, QM and Human-Machine Systems at the Niederrhein University of Applied Sciences\nJury Manager of the DSSP for Business Excellence \n  \n_________________________________________________________________________________ \n \n  \n  \nYou can find other interesting dates relating to quality management in the QZ-online.de diary\n_________________________________________________________________________________
URL:https://www.sixsigmaclub.de/en/event/is-my-project-suitable-for-participation-in-the-german-six-sigma-award-for-business-excellence/
LOCATION:Online lecture
CATEGORIES:Online lecture
ORGANIZER;CN="European Six Sigma Club Germany e.V.":MAILTO:buero@sixsigmaclub.de
END:VEVENT
END:VCALENDAR