BEGIN:VCALENDAR
VERSION:2.0
PRODID:-//ESSC-D - ECPv6.15.20//NONSGML v1.0//EN
CALSCALE:GREGORIAN
METHOD:PUBLISH
X-WR-CALNAME:ESSC-D
X-ORIGINAL-URL:https://www.sixsigmaclub.de/en/
X-WR-CALDESC:Events for ESSC-D
REFRESH-INTERVAL;VALUE=DURATION:PT1H
X-Robots-Tag:noindex
X-PUBLISHED-TTL:PT1H
BEGIN:VTIMEZONE
TZID:Europe/Berlin
BEGIN:DAYLIGHT
TZOFFSETFROM:+0100
TZOFFSETTO:+0200
TZNAME:CEST
DTSTART:20220327T010000
END:DAYLIGHT
BEGIN:STANDARD
TZOFFSETFROM:+0200
TZOFFSETTO:+0100
TZNAME:CET
DTSTART:20221030T010000
END:STANDARD
BEGIN:DAYLIGHT
TZOFFSETFROM:+0100
TZOFFSETTO:+0200
TZNAME:CEST
DTSTART:20230326T010000
END:DAYLIGHT
BEGIN:STANDARD
TZOFFSETFROM:+0200
TZOFFSETTO:+0100
TZNAME:CET
DTSTART:20231029T010000
END:STANDARD
BEGIN:DAYLIGHT
TZOFFSETFROM:+0100
TZOFFSETTO:+0200
TZNAME:CEST
DTSTART:20240331T010000
END:DAYLIGHT
BEGIN:STANDARD
TZOFFSETFROM:+0200
TZOFFSETTO:+0100
TZNAME:CET
DTSTART:20241027T010000
END:STANDARD
END:VTIMEZONE
BEGIN:VEVENT
DTSTART;VALUE=DATE:20231204
DTEND;VALUE=DATE:20231206
DTSTAMP:20260421T081929
CREATED:20230622T065126Z
LAST-MODIFIED:20230622T065126Z
UID:88935-1701648000-1701820799@www.sixsigmaclub.de
SUMMARY:Automated data preparation and analysis with R
DESCRIPTION:Further training for up-and-comers in quality\, production and logistics and for anyone who regularly deals with data\nThis training is carried out together with our cooperation partner Grundig Academy. The flood of data is constantly increasing in day-to-day business. Data records need to be processed quickly\, visualized and searched for anomalies in order to derive suitable measures. Particularly in the areas of quality\, production and logistics\, the data records are often constantly updated with consistent structures. The handling of spreadsheet programs can take up a considerable amount of daily working time. In situations like these\, scripts for data preparation and data analysis are used. This allows standard tasks to be completed quickly\, conveniently and\, above all\, error-free. Scripts also allow best practices to be shared within a team. With the advent of freely available artificial intelligence\, there are also constantly available helpers for creating these scripts. The insights gained from the analyses also often need to be summarized in reports. Instead of generating these by “copying and pasting” from one document to the next\, these reports can be made available by script or even fully automated. This not only saves working time and avoids errors. It also opens up new possibilities for process monitoring and control.             \n\n\nTarget group\nThis training is aimed at \n\nAnyone who works with data on a daily basis. The more time you spend using spreadsheet programs every day\, the greater your benefit will be. \nExperts in quality\, production and logistics\, but also in controlling and other areas that use ever larger and more complex data volumes.\nStudents and anyone who wants to prepare for tasks in order to be able to carry out data analyses effectively\, quickly and reliably.\n\n\n\n\n\nPrerequisites\nYou will get the most out of this training if you have a lot to do with data and data analysis in your day-to-day business and are familiar with spreadsheet programs. Statistical or knowledge of programming or macro languages is not required.  \nTo participate in this course \n\nyou need your own laptop\nhave installed the R language\, ideally RStudio\, and\nhave registered with ChatGPT or similar language models.\n\nAfter registering\, you will receive the necessary instructions. You may need the approval of your IT department or your own laptop for these installations. R\, RStudio and access to ChatGPT are available free of charge.   \nIt is an advantage and useful for you\, but not necessary\, if you bring your own data set (for example\, the production of a day or a week). You do not have to share this data set with others. It is helpful if you have the permission to talk about the structure of the data (column names\, number of rows\, …) and to show your evaluations to the participants.   \nYour benefit\nParticipants learn through extensive exercises to create scripts and reports independently\, to adapt existing script blocks (such as those provided in help forums) for their own questions and to use large language models such as ChatGPT for the creation of scripts. \n\nFast and error-proof analysis of data\nCreate standard reports from complex data “at the touch of a button”\nFree access to the best analysis tools and help forums\nUse of artificial intelligence for everyday data analysis work.\n\nThis program is primarily aimed at employees of companies that \n\nwant to meet the challenges of digitization proactively and cost-effectively and who\nrecognized the increasing importance of handling data and want to “democratize” the skills required to do so.\n\nThe following skills are taught in the training: \n\nData preparation with R scripts\, graphically and statistically\nCreation of analysis reports using R-Markdown\nData preparation with the dplyr package\nCreate professional graphics with the ggplot package\nUse of artificial intelligence and ChatGPT in data analysis.\n\nFocal points\nYou will receive all data sets and scripts for the training. The training also deals specifically with questions from participants about their own data sets.  \n\nExpectations of the participants\n“The light at the end of the tunnel”: ChatGPT creates a complete analysis script\nIntroduction to the use of R and RStudio\nData formats and functions in R\nRead data into R and save results from R\nCreate your own functions\nBasics of data preparation with dplyr\nBasics of creating graphics with ggplot\nData analysis: creating\, modifying and professionally documenting scripts\nCreate professional reports with R-Markdown\nOutlook and demo: Web applications with R-Shiny\nProcessing a case study or your own data set.\n\nDuration\n2 days \n\nOwn preparation based on documents distributed in advance\nTwo days of classroom training and workshop\nSelf-study phases and individual support\n\nDates\nNuremberg \n04.12.2023 – 05.12.2023 \nParticipation fee 1.250\,00 €*\n\n* As an ESSC Deutschland e.V. member you pay only 950 €. Simply write your membership number in the comments field when booking.  \nDigital teaching material and seminar catering included \n\nRegistration via the Grundig Academy: https://www.grundig-akademie.de/seminar/2091/Automatisierte-Datenaufbereitung-und-analyse-mit-R
URL:https://www.sixsigmaclub.de/en/event/automated-data-preparation-and-analysis-with-r/
LOCATION:Nuremberg
END:VEVENT
BEGIN:VEVENT
DTSTART;TZID=Europe/Berlin:20231206T180000
DTEND;TZID=Europe/Berlin:20231206T220000
DTSTAMP:20260421T081929
CREATED:20231122T091017Z
LAST-MODIFIED:20231122T091017Z
UID:89000-1701885600-1701900000@www.sixsigmaclub.de
SUMMARY:Cooperation event: Calculation of sustainability indicators based on CAD data
DESCRIPTION:A cooperation event with digiZ Ostwürttemberg\, the DGQ and the Six Sigma Club will take place on December 6\, 2023. On March 1\, 2023\, an initial workshop was held to calculate the product carbon footprint (PCF) and other sustainability indicators where applicable. The result was a roadmap on the importance of the topics.   \nThis event on December 6 from 6:00 p.m. is intended to show the progress and implementation in the calculation of sustainability indicators for in-house production (Scope 2\, e.g. PCF) using CAD and provide an outlook on how transparency can be approached for other key sustainability indicators.  \nVenue: digiZ location Heidenheim\, Leibniz-Campus 7\, 89520 Heidenheim \nRegister now (registration required): https://event-ihk.de/co2foodprint \n_________________________________________________________________________________ \n \n  \n  \nYou can find other interesting dates relating to quality management in the QZ-online.de diary\n_________________________________________________________________________________ \n 
URL:https://www.sixsigmaclub.de/en/event/cooperation-event-calculation-of-sustainability-indicators-based-on-cad-data/
CATEGORIES:ESSC-D Workshop / Training
END:VEVENT
END:VCALENDAR