BEGIN:VCALENDAR
VERSION:2.0
PRODID:-//ESSC-D - ECPv6.15.20//NONSGML v1.0//EN
CALSCALE:GREGORIAN
METHOD:PUBLISH
X-WR-CALNAME:ESSC-D
X-ORIGINAL-URL:https://www.sixsigmaclub.de/en/
X-WR-CALDESC:Events for ESSC-D
REFRESH-INTERVAL;VALUE=DURATION:PT1H
X-Robots-Tag:noindex
X-PUBLISHED-TTL:PT1H
BEGIN:VTIMEZONE
TZID:Europe/Berlin
BEGIN:DAYLIGHT
TZOFFSETFROM:+0100
TZOFFSETTO:+0200
TZNAME:CEST
DTSTART:20230326T010000
END:DAYLIGHT
BEGIN:STANDARD
TZOFFSETFROM:+0200
TZOFFSETTO:+0100
TZNAME:CET
DTSTART:20231029T010000
END:STANDARD
BEGIN:DAYLIGHT
TZOFFSETFROM:+0100
TZOFFSETTO:+0200
TZNAME:CEST
DTSTART:20240331T010000
END:DAYLIGHT
BEGIN:STANDARD
TZOFFSETFROM:+0200
TZOFFSETTO:+0100
TZNAME:CET
DTSTART:20241027T010000
END:STANDARD
BEGIN:DAYLIGHT
TZOFFSETFROM:+0100
TZOFFSETTO:+0200
TZNAME:CEST
DTSTART:20250330T010000
END:DAYLIGHT
BEGIN:STANDARD
TZOFFSETFROM:+0200
TZOFFSETTO:+0100
TZNAME:CET
DTSTART:20251026T010000
END:STANDARD
END:VTIMEZONE
BEGIN:VEVENT
DTSTART;VALUE=DATE:20240102
DTEND;VALUE=DATE:20240401
DTSTAMP:20260421T064837
CREATED:20230407T182457Z
LAST-MODIFIED:20230407T182457Z
UID:88958-1704153600-1711929599@www.sixsigmaclub.de
SUMMARY:Advanced Statistics Course
DESCRIPTION:The Advanced Statistics course is a perfect foundation for those who want to become a Master Black Belt and for those who want to study statistics beyond the Black Belt level. \nThe course is scheduled to start at the beginning of 2024 and the dates will be arranged personally with the interested parties. This gives you the opportunity to get in touch if you are interested and we will be happy to consider your date options.  \nAs always\, the course is divided into two blocks: \n\nBlock is 4 days plus optional soft skills day\nThe 3rd block is 3 days and should be scheduled approx. 2-3 months after the first block\n\nThe venue will be announced. It is possible for the first block to take place as an online event. The second block should take place in person.   \nThe participation fee is € 2\,950 for ESSC members and € 3\,950 for non-members. Further detailed information can be found here.  \nThank you for your interest\, please send us an e-mail to buero@sixsigmaclub.de \n 
URL:https://www.sixsigmaclub.de/en/event/advanced-statistics-course/
CATEGORIES:ESSC-D Workshop / Training
END:VEVENT
END:VCALENDAR