BEGIN:VCALENDAR
VERSION:2.0
PRODID:-//ESSC-D - ECPv6.15.20//NONSGML v1.0//EN
CALSCALE:GREGORIAN
METHOD:PUBLISH
X-WR-CALNAME:ESSC-D
X-ORIGINAL-URL:https://www.sixsigmaclub.de/en/
X-WR-CALDESC:Events for ESSC-D
REFRESH-INTERVAL;VALUE=DURATION:PT1H
X-Robots-Tag:noindex
X-PUBLISHED-TTL:PT1H
BEGIN:VTIMEZONE
TZID:Europe/Berlin
BEGIN:DAYLIGHT
TZOFFSETFROM:+0100
TZOFFSETTO:+0200
TZNAME:CEST
DTSTART:20230326T010000
END:DAYLIGHT
BEGIN:STANDARD
TZOFFSETFROM:+0200
TZOFFSETTO:+0100
TZNAME:CET
DTSTART:20231029T010000
END:STANDARD
BEGIN:DAYLIGHT
TZOFFSETFROM:+0100
TZOFFSETTO:+0200
TZNAME:CEST
DTSTART:20240331T010000
END:DAYLIGHT
BEGIN:STANDARD
TZOFFSETFROM:+0200
TZOFFSETTO:+0100
TZNAME:CET
DTSTART:20241027T010000
END:STANDARD
BEGIN:DAYLIGHT
TZOFFSETFROM:+0100
TZOFFSETTO:+0200
TZNAME:CEST
DTSTART:20250330T010000
END:DAYLIGHT
BEGIN:STANDARD
TZOFFSETFROM:+0200
TZOFFSETTO:+0100
TZNAME:CET
DTSTART:20251026T010000
END:STANDARD
END:VTIMEZONE
BEGIN:VEVENT
DTSTART;VALUE=DATE:20240102
DTEND;VALUE=DATE:20240401
DTSTAMP:20260421T034006
CREATED:20230407T182457Z
LAST-MODIFIED:20230407T182457Z
UID:88958-1704153600-1711929599@www.sixsigmaclub.de
SUMMARY:Advanced Statistics Course
DESCRIPTION:The Advanced Statistics course is a perfect foundation for those who want to become a Master Black Belt and for those who want to study statistics beyond the Black Belt level. \nThe course is scheduled to start at the beginning of 2024 and the dates will be arranged personally with the interested parties. This gives you the opportunity to get in touch if you are interested and we will be happy to consider your date options.  \nAs always\, the course is divided into two blocks: \n\nBlock is 4 days plus optional soft skills day\nThe 3rd block is 3 days and should be scheduled approx. 2-3 months after the first block\n\nThe venue will be announced. It is possible for the first block to take place as an online event. The second block should take place in person.   \nThe participation fee is € 2\,950 for ESSC members and € 3\,950 for non-members. Further detailed information can be found here.  \nThank you for your interest\, please send us an e-mail to buero@sixsigmaclub.de \n 
URL:https://www.sixsigmaclub.de/en/event/advanced-statistics-course/
CATEGORIES:ESSC-D Workshop / Training
END:VEVENT
BEGIN:VEVENT
DTSTART;TZID=Europe/Berlin:20240301T150000
DTEND;TZID=Europe/Berlin:20240301T160000
DTSTAMP:20260421T034006
CREATED:20240123T093938Z
LAST-MODIFIED:20240123T093938Z
UID:89001-1709305200-1709308800@www.sixsigmaclub.de
SUMMARY:Lean vs. Six Sigma - classics of process optimization in a direct duel of philosophies\, boundaries and roles.
DESCRIPTION:Lean vs. Six Sigma – classics of process optimization in a direct duel of philosophies\, boundaries and roles. A practical insight for advanced practitioners and those who want to become one.  \n\nWith over two decades of experience in Lean and Six Sigma consulting and training\, I have often found that choosing the right Six Sigma seminar or the CEO’s favorite method is not always a perfect fit for the company.\n\n\nWe will take you on an informative journey through the two management approaches\, highlighting the differences in their philosophies\, but also the limitations of the tools. You will also find out which roles make the decisive difference in practice. \n\n\nSuccessful introduction and implementation requires a little more than luck. As Confucius said: “People don’t stumble over mountains\, they stumble over molehills.” Proven strategies for navigating the bumps included.  \n\n\nQ & A\n\n  \nSpeaker: Alexandra Lindner\, Contales – Consulting & Training \n_________________________________________________________________________________ \n \n  \n  \nYou can find other interesting dates relating to quality management in the QZ-online.de diary\n_________________________________________________________________________________
URL:https://www.sixsigmaclub.de/en/event/lean-vs-six-sigma-classics-of-process-optimization-in-a-direct-duel-of-philosophies-boundaries-and-roles/
LOCATION:Online lecture
CATEGORIES:Online lecture
ORGANIZER;CN="European Six Sigma Club Germany e.V.":MAILTO:buero@sixsigmaclub.de
END:VEVENT
BEGIN:VEVENT
DTSTART;TZID=Europe/Berlin:20240307T090000
DTEND;TZID=Europe/Berlin:20240308T150000
DTSTAMP:20260421T034006
CREATED:20230727T151844Z
LAST-MODIFIED:20230727T151844Z
UID:88932-1709802000-1709910000@www.sixsigmaclub.de
SUMMARY:Six Sigma Conference 2024
DESCRIPTION:Register now for the ESSC-D Six Sigma Conference 2024! \nWe are pleased to announce the date for the top-class Six Sigma Conference 2024!\nMake a note of March 7 and 8\, 2024\, when the conference opens its doors in the picturesque town of Wiesbaden Niedernhausen.  \nThe Six Sigma Conference 2024 promises a comprehensive program with inspiring presentations\, interactive workshops and opportunities to network with experts from various industries. \nImportant information at a glance:\nDate: March 07 and 08\, 2024\nGet togehter: March 06 from 19:30\nLocation: H+ Hotel in 65527 Niedernhausen (near Wiesbaden)  \nWe are working hard to provide you with more information about the event and the final program.\nDo you have any questions about the conference or would you like to give a presentation on a specific topic? Write to us at: buero@sixsigmaclub.de  \nFurther information on the event\, the current program and registration can be downloaded here: LINK  \nPartner of the 2024 conference:\nADDITIVE GmbH \nBest regards and see you soon at the Six Sigma Conference 2024!\nThe organizing team of the Six Sigma conference \n  \n_________________________________________________________________________ \n \n  \n  \nYou can find other interesting dates relating to quality management in the QZ-online.de diary\n__________________________________________________________________________
URL:https://www.sixsigmaclub.de/en/event/six-sigma-conference-2024/
LOCATION:H+ Hotel\, Casteller Street 106\, Hofheim-Diedenbergen\, Hesse\, 65719
CATEGORIES:Specialist conference
ORGANIZER;CN="European Six Sigma Club Germany e.V.":MAILTO:buero@sixsigmaclub.de
END:VEVENT
END:VCALENDAR