BEGIN:VCALENDAR
VERSION:2.0
PRODID:-//ESSC-D - ECPv6.15.20//NONSGML v1.0//EN
CALSCALE:GREGORIAN
METHOD:PUBLISH
X-WR-CALNAME:ESSC-D
X-ORIGINAL-URL:https://www.sixsigmaclub.de/en/
X-WR-CALDESC:Events for ESSC-D
REFRESH-INTERVAL;VALUE=DURATION:PT1H
X-Robots-Tag:noindex
X-PUBLISHED-TTL:PT1H
BEGIN:VTIMEZONE
TZID:Europe/Berlin
BEGIN:DAYLIGHT
TZOFFSETFROM:+0100
TZOFFSETTO:+0200
TZNAME:CEST
DTSTART:20230326T010000
END:DAYLIGHT
BEGIN:STANDARD
TZOFFSETFROM:+0200
TZOFFSETTO:+0100
TZNAME:CET
DTSTART:20231029T010000
END:STANDARD
BEGIN:DAYLIGHT
TZOFFSETFROM:+0100
TZOFFSETTO:+0200
TZNAME:CEST
DTSTART:20240331T010000
END:DAYLIGHT
BEGIN:STANDARD
TZOFFSETFROM:+0200
TZOFFSETTO:+0100
TZNAME:CET
DTSTART:20241027T010000
END:STANDARD
BEGIN:DAYLIGHT
TZOFFSETFROM:+0100
TZOFFSETTO:+0200
TZNAME:CEST
DTSTART:20250330T010000
END:DAYLIGHT
BEGIN:STANDARD
TZOFFSETFROM:+0200
TZOFFSETTO:+0100
TZNAME:CET
DTSTART:20251026T010000
END:STANDARD
END:VTIMEZONE
BEGIN:VEVENT
DTSTART;TZID=Europe/Berlin:20240705T150000
DTEND;TZID=Europe/Berlin:20240705T163000
DTSTAMP:20260420T214422
CREATED:20240506T125143Z
LAST-MODIFIED:20240506T125143Z
UID:89003-1720191600-1720197000@www.sixsigmaclub.de
SUMMARY:Artificial intelligence (AI) as a sparring partner in our project team
DESCRIPTION:Artificial intelligence (AI) as a sparring partner  in our project team. An interactive online lecture together with different  Super-colleagues (KIs) using the example of measurement process qualification. We want to include them as interdisciplinary team members in   live for problem solving\, idea generation and data analysis. \nAim of the online lecture\nApplication examples Demonstrate\, compare and discuss the potential for AI-supported project teams. You will receive   concrete ideas\, methods and tools that enable you to  support your existing working standards and practices with the help of artificial intelligence. \nWhat to expect\n– What is expected of Human Intelligence (MI) and Artificial Intelligence (AI) today\n– The role of MI and AI in today’s world\n– How does AI/ML learn? More time for creativity through the use of AI?\n– We use Chat GPT and others live as sparring partners for our “creative session”\n– We use Chat GPT live and others as statisticians for our “data analysis session”  \nSpeakers: Björn Noreik and Gennadii Tsybelman\nBNB Quality Statistics and Training \n_________________________________________________________________________________ \n \n  \n  \nYou can find other interesting dates relating to quality management in the QZ-online.de diary\n_________________________________________________________________________________
URL:https://www.sixsigmaclub.de/en/event/artificial-intelligence-ai-as-a-sparring-partner-in-our-project-team/
LOCATION:Online lecture
CATEGORIES:Online lecture
ORGANIZER;CN="European Six Sigma Club Germany e.V.":MAILTO:buero@sixsigmaclub.de
END:VEVENT
BEGIN:VEVENT
DTSTART;TZID=Europe/Berlin:20240716T180000
DTEND;TZID=Europe/Berlin:20240716T210000
DTSTAMP:20260420T214422
CREATED:20240513T192824Z
LAST-MODIFIED:20240513T192824Z
UID:89005-1721152800-1721163600@www.sixsigmaclub.de
SUMMARY:Six Sigma Stammtisch
DESCRIPTION:For over a decade\, the Six Sigma Stammtisch has been bringing together like-minded people and experts in an atmosphere of cooperation and exchange. This event is organized in cooperation with the IHK Ostwürttemberg\, the DGQ and the European Six Sigma Club Deutschland e.V. (ESSC-D). \n\nThis year\, we cordially invite you to five special meetings at the location of the East Wuerttemberg Digitization Centre (digiZ) in Heidenheim\, Leibniz Campus 7. Each meeting offers an excellent opportunity to network\, gain new insights and look to the future of digitalization and quality assurance together. Your participation will enrich our community – we look forward to seeing you!  \n\n________________________________________________________________________________\n\nDates 2024: 07.05. | 16.07. | 07.10. | 26.11. from 18:00 in each case     \nVenue:\ndigiZ location Heidenheim\nLeibniz-Campus 7\n89520 Heidenheim an der Brenz \nRegistration: LINK to the IHK registration page \n_________________________________________________________________________________ \n \n  \n  \nYou can find other interesting dates relating to quality management in the QZ-online.de diary\n_________________________________________________________________________________
URL:https://www.sixsigmaclub.de/en/event/six-sigma-stammtisch/
END:VEVENT
BEGIN:VEVENT
DTSTART;TZID=Europe/Berlin:20240719T140000
DTEND;TZID=Europe/Berlin:20240719T150000
DTSTAMP:20260420T214422
CREATED:20240604T134623Z
LAST-MODIFIED:20240604T134623Z
UID:89006-1721397600-1721401200@www.sixsigmaclub.de
SUMMARY:Six Sigma and engineering AI: the fast track to sustainable product assurance and stable processes
DESCRIPTION:Six Sigma and engineering AI: the fast track to sustainable product assurance and stable processes \nIn 3 Six Sigma steps plus engineering AI to real-time capable prediction models – even without big data. Based on the prediction models\, the engineering AI calculates the new nominal values for products and processes as the best settings for all influencing variables. This allows product quality to be sustainably improved and manufacturing processes to be controlled in real time.   \nSpeakers: Frank Thurner\nContech Software & Engineering GmbH \n_________________________________________________________________________________ \n \n  \n  \nYou can find other interesting dates relating to quality management in the QZ-online.de diary\n_________________________________________________________________________________
URL:https://www.sixsigmaclub.de/en/event/six-sigma-and-engineering-ai-the-fast-track-to-sustainable-product-assurance-and-stable-processes/
LOCATION:Online lecture
CATEGORIES:Online lecture
ORGANIZER;CN="European Six Sigma Club Germany e.V.":MAILTO:buero@sixsigmaclub.de
END:VEVENT
END:VCALENDAR