BEGIN:VCALENDAR
VERSION:2.0
PRODID:-//ESSC-D - ECPv6.15.20//NONSGML v1.0//EN
CALSCALE:GREGORIAN
METHOD:PUBLISH
X-ORIGINAL-URL:https://www.sixsigmaclub.de/en/
X-WR-CALDESC:Events for ESSC-D
REFRESH-INTERVAL;VALUE=DURATION:PT1H
X-Robots-Tag:noindex
X-PUBLISHED-TTL:PT1H
BEGIN:VTIMEZONE
TZID:Europe/Berlin
BEGIN:DAYLIGHT
TZOFFSETFROM:+0100
TZOFFSETTO:+0200
TZNAME:CEST
DTSTART:20230326T010000
END:DAYLIGHT
BEGIN:STANDARD
TZOFFSETFROM:+0200
TZOFFSETTO:+0100
TZNAME:CET
DTSTART:20231029T010000
END:STANDARD
BEGIN:DAYLIGHT
TZOFFSETFROM:+0100
TZOFFSETTO:+0200
TZNAME:CEST
DTSTART:20240331T010000
END:DAYLIGHT
BEGIN:STANDARD
TZOFFSETFROM:+0200
TZOFFSETTO:+0100
TZNAME:CET
DTSTART:20241027T010000
END:STANDARD
BEGIN:DAYLIGHT
TZOFFSETFROM:+0100
TZOFFSETTO:+0200
TZNAME:CEST
DTSTART:20250330T010000
END:DAYLIGHT
BEGIN:STANDARD
TZOFFSETFROM:+0200
TZOFFSETTO:+0100
TZNAME:CET
DTSTART:20251026T010000
END:STANDARD
END:VTIMEZONE
BEGIN:VEVENT
DTSTART;TZID=Europe/Berlin:20241016T090000
DTEND;TZID=Europe/Berlin:20241018T170000
DTSTAMP:20260420T171403
CREATED:20240301T122455Z
LAST-MODIFIED:20240301T122455Z
UID:89026-1729069200-1729270800@www.sixsigmaclub.de
SUMMARY:Machine Learning (ML) practical workshop
DESCRIPTION:A practice-oriented workshop for data professionals and those who want to become one \nIn today’s world\, data-driven decisions are the backbone of progressive companies. However\, the efficiency and effectiveness of these decisions depend heavily on the quality of data analysis. With the advent of big data and advanced analytics comes both new opportunities and challenges. Our three-day workshop provides Six Sigma Belts and methodology experts with the perfect platform to hone their skills in modern data analytics.    \nTargeted learning\nThis workshop is tailor-made for people from quality management\, process and product development and others who want to expand their skills in big data and data mining. With a focus on methodological and structural approaches\, you will learn not only to understand complex data structures\, but also to analyze and interpret them efficiently.  \nPractical experience with top tools\nImmerse yourself in the world of advanced data analysis with practical exercises using Minitab®\, KNIME® and Python in combination with Scikit-Learn. Experience the application possibilities and efficiency of these tools in direct comparison and learn how you can transfer what you have learned into your professional practice.  \nUse data to your advantage\nWhether you want to improve your company’s processes\, reduce costs or increase customer satisfaction\, the knowledge gained in the workshop will help you achieve your goals. You will be able to support and optimize data-driven decision-making processes in your company.  \nContents and benefits of the workshop\nUnderstand and apply: Get to know and apply basic methods and essential terminology in the field of machine learning.\nFrom data to solutions: Develop skills to plan and perform your own data analysis\, focusing on the entire process from data collection to solution finding.\nFlexible data analysis: Apply different statistical approaches to ensure a flexible approach to data analysis.\nUniversal knowledge: Acquire knowledge that is universally applicable and can be implemented with different tools and software packages. \nYour path to becoming a data expert\nThis workshop is more than just a training course – it is an investment in your future and that of your company.\nRegister now for our workshop and become a master of data analysis! Further details and registration as PDF for download. \nSpeakers: Prof. Dr. Maik Kschischo\, Koblenz University of Applied Sciences and Björn Noreik\, BNB-Quality Statistics and Training \n_________________________________________________________________________________ \n \n  \n  \nYou can find other interesting dates relating to quality management in the QZ-online.de diary\n_________________________________________________________________________________
URL:https://www.sixsigmaclub.de/en/event/machine-learning-ml-practical-workshop/
LOCATION:Online
CATEGORIES:ESSC-D Workshop / Training
ORGANIZER;CN="European Six Sigma Club Germany e.V.":MAILTO:buero@sixsigmaclub.de
END:VEVENT
END:VCALENDAR